BEGIN:VCALENDAR
VERSION:2.0
PRODID:-//Pikes Peak Blues Community - ECPv6.15.20//NONSGML v1.0//EN
CALSCALE:GREGORIAN
METHOD:PUBLISH
X-WR-CALNAME:Pikes Peak Blues Community
X-ORIGINAL-URL:https://pikespkblues.org
X-WR-CALDESC:Events for Pikes Peak Blues Community
REFRESH-INTERVAL;VALUE=DURATION:PT1H
X-Robots-Tag:noindex
X-PUBLISHED-TTL:PT1H
BEGIN:VTIMEZONE
TZID:America/Denver
BEGIN:DAYLIGHT
TZOFFSETFROM:-0700
TZOFFSETTO:-0600
TZNAME:MDT
DTSTART:20240310T090000
END:DAYLIGHT
BEGIN:STANDARD
TZOFFSETFROM:-0600
TZOFFSETTO:-0700
TZNAME:MST
DTSTART:20241103T080000
END:STANDARD
BEGIN:DAYLIGHT
TZOFFSETFROM:-0700
TZOFFSETTO:-0600
TZNAME:MDT
DTSTART:20250309T090000
END:DAYLIGHT
BEGIN:STANDARD
TZOFFSETFROM:-0600
TZOFFSETTO:-0700
TZNAME:MST
DTSTART:20251102T080000
END:STANDARD
BEGIN:DAYLIGHT
TZOFFSETFROM:-0700
TZOFFSETTO:-0600
TZNAME:MDT
DTSTART:20260308T090000
END:DAYLIGHT
BEGIN:STANDARD
TZOFFSETFROM:-0600
TZOFFSETTO:-0700
TZNAME:MST
DTSTART:20261101T080000
END:STANDARD
BEGIN:DAYLIGHT
TZOFFSETFROM:-0700
TZOFFSETTO:-0600
TZNAME:MDT
DTSTART:20270314T090000
END:DAYLIGHT
BEGIN:STANDARD
TZOFFSETFROM:-0600
TZOFFSETTO:-0700
TZNAME:MST
DTSTART:20271107T080000
END:STANDARD
END:VTIMEZONE
BEGIN:VEVENT
DTSTART;TZID=America/Denver:20251101T143000
DTEND;TZID=America/Denver:20251101T193000
DTSTAMP:20260423T161517
CREATED:20250924T181431Z
LAST-MODIFIED:20250924T181454Z
UID:10004516-1762007400-1762025400@pikespkblues.org
SUMMARY:Ballroomin’ Blues Workshop with Kara Fabian & Jen Delk
DESCRIPTION:Ballroomin’ Blues Workshop with Kara Fabian & Jen Delk @ Denver Turnverien Dance Center\, Denver on Saturday\, November 1st from 2:30 pm to 7:30 pm. See https://kfabdances.com/dance-training/.
URL:https://pikespkblues.org/event/ballroomin-blues-workshop-with-kara-fabian-and-jen-delk/
LOCATION:Denver Turnverien Dance Center\, 1570 N Clarkson St\, Denver\, CO\, 80218\, United States
CATEGORIES:Dance
END:VEVENT
BEGIN:VEVENT
DTSTART;TZID=America/Denver:20251120T203000
DTEND;TZID=America/Denver:20251120T203000
DTSTAMP:20260423T161517
CREATED:20250924T190516Z
LAST-MODIFIED:20250924T193049Z
UID:10004517-1763670600-1763670600@pikespkblues.org
SUMMARY:Colorado Blues Dance’s Shimmy Shake Blues with Reckless and Blue
DESCRIPTION:Colorado Blues Dance’s Shimmy Shake Blues with Reckless and Blue @ The Pearl\, Denver on Thursday\, November 20th from 8:30 pm to midnight. All-Levels Blues Dance Class with blues dance instructor from 7:00 to 8:00 pm.
URL:https://pikespkblues.org/event/colorado-blues-dances-shimmy-shake-blues-with-reckless-and-blue/
LOCATION:The Pearl\, 2199 California St\, Denver\, CO\, 80205\, United States
CATEGORIES:Concerts,Dance
END:VEVENT
BEGIN:VEVENT
DTSTART;TZID=America/Denver:20251218T203000
DTEND;TZID=America/Denver:20251218T203000
DTSTAMP:20260423T161517
CREATED:20250924T191057Z
LAST-MODIFIED:20251128T151148Z
UID:10004518-1766089800-1766089800@pikespkblues.org
SUMMARY:Colorado Blues Dance’s Shimmy Shake Blues with Reckless and Blue (Album Release Party)
DESCRIPTION:Colorado Blues Dance’s Shimmy Shake Blues with Reckless and Blue @ The Pearl\, Denver on Thursday\, December 18th from 8:00 pm to midnight. All-Levels Blues Dance Class with blues dance instructor from 7:00 to 8:00 pm.
URL:https://pikespkblues.org/event/colorado-blues-dances-shimmy-shake-blues-with-rex-peoples-x-factr/
LOCATION:The Pearl\, 2199 California St\, Denver\, CO\, 80205\, United States
CATEGORIES:Concerts,Dance
END:VEVENT
BEGIN:VEVENT
DTSTART;TZID=America/Denver:20260115T200000
DTEND;TZID=America/Denver:20260115T200000
DTSTAMP:20260423T161517
CREATED:20251025T203659Z
LAST-MODIFIED:20260401T142351Z
UID:10005579-1768507200-1768507200@pikespkblues.org
SUMMARY:Colorado Blues Dance Shimmy Shakin' Blues 3 Year Anniversary Party with The Delta Sonics
DESCRIPTION:Colorado Blues Dance Shimmy Shakin’ Blues 3 Year Anniversary Party featuring The Delta Sonics with Al Chesis ***PPBC Member Band *** @ The Pearl\, Denver on Thursday\, January 15th from 8:00 pm to Midnight. Blues Musician Podcast Interview 7:00-8:00pm.
URL:https://pikespkblues.org/event/colorado-blues-dance-shimmy-shakin-blues-3-year-anniversary-party-with-the-delta-sonics/
LOCATION:The Pearl\, 2199 California St\, Denver\, CO\, 80205\, United States
CATEGORIES:Concerts,Dance
END:VEVENT
BEGIN:VEVENT
DTSTART;TZID=America/Denver:20260219T200000
DTEND;TZID=America/Denver:20260219T200000
DTSTAMP:20260423T161517
CREATED:20251025T212956Z
LAST-MODIFIED:20251025T212956Z
UID:10005580-1771531200-1771531200@pikespkblues.org
SUMMARY:Colorado Blues Dance Shimmy Shakin' Blues with Maynard Mills Blues Band
DESCRIPTION:  \n \n \nColorado Blues Dance Shimmy Shakin’ Blues with Maynard Mills Blues Band @ The Pearl\, Denver on Thursday\, February 19th from 8:00 pm to Midnight. Blues Dance Class with blues dance instructor 7:00-8:00 pm.
URL:https://pikespkblues.org/event/colorado-blues-dance-shimmy-shakin-blues-with-maynard-mills-blues-band/
LOCATION:The Pearl\, 2199 California St\, Denver\, CO\, 80205\, United States
CATEGORIES:Concerts,Dance
END:VEVENT
BEGIN:VEVENT
DTSTART;TZID=America/Denver:20260319T200000
DTEND;TZID=America/Denver:20260319T200000
DTSTAMP:20260423T161517
CREATED:20251025T213454Z
LAST-MODIFIED:20251025T213454Z
UID:10005581-1773950400-1773950400@pikespkblues.org
SUMMARY:Colorado Blues Dance Shimmy Shakin' Blues with Hundred Pound Housecat
DESCRIPTION:Colorado Blues Dance Shimmy Shakin’ Blues with Hundred Pound Housecat @ The Pearl\, Denver on Thursday\, March 19th from 8:00 pm to Midnight. Blues Dance Class with blues dance instructor 7:00-8:00pm.
URL:https://pikespkblues.org/event/colorado-blues-dance-shimmy-shakin-blues-with-hundred-pound-housecat/
LOCATION:The Pearl\, 2199 California St\, Denver\, CO\, 80205\, United States
CATEGORIES:Concerts,Dance
END:VEVENT
BEGIN:VEVENT
DTSTART;TZID=America/Denver:20260416T200000
DTEND;TZID=America/Denver:20260416T200000
DTSTAMP:20260423T161517
CREATED:20260401T142958Z
LAST-MODIFIED:20260415T220743Z
UID:10005806-1776369600-1776369600@pikespkblues.org
SUMMARY:Colorado Blues Dance Shimmy Shakin' Blues with the Nic Clark Band
DESCRIPTION:Colorado Blues Dance Shimmy Shakin’ Blues with the Nic Clark Band @ Denver Turnverein\, Downstair Ballroom\, Denver on Thursday\, April 16th from 8:00 pm to Midnight. Blues Dance Class with blues dance instructor 7:00-8:00 pm. Note VENUE CHANGE.
URL:https://pikespkblues.org/event/colorado-blues-dance-shimmy-shakin-blues-with-the-nic-clark-band/
LOCATION:Denver Turnverien Dance Center\, 1570 N Clarkson St\, Denver\, CO\, 80218\, United States
CATEGORIES:Concerts,Dance
END:VEVENT
END:VCALENDAR