BEGIN:VCALENDAR
VERSION:2.0
PRODID:-//Pikes Peak Blues Community - ECPv6.15.20//NONSGML v1.0//EN
CALSCALE:GREGORIAN
METHOD:PUBLISH
X-ORIGINAL-URL:https://pikespkblues.org
X-WR-CALDESC:Events for Pikes Peak Blues Community
REFRESH-INTERVAL;VALUE=DURATION:PT1H
X-Robots-Tag:noindex
X-PUBLISHED-TTL:PT1H
BEGIN:VTIMEZONE
TZID:America/Denver
BEGIN:DAYLIGHT
TZOFFSETFROM:-0700
TZOFFSETTO:-0600
TZNAME:MDT
DTSTART:20250309T090000
END:DAYLIGHT
BEGIN:STANDARD
TZOFFSETFROM:-0600
TZOFFSETTO:-0700
TZNAME:MST
DTSTART:20251102T080000
END:STANDARD
BEGIN:DAYLIGHT
TZOFFSETFROM:-0700
TZOFFSETTO:-0600
TZNAME:MDT
DTSTART:20260308T090000
END:DAYLIGHT
BEGIN:STANDARD
TZOFFSETFROM:-0600
TZOFFSETTO:-0700
TZNAME:MST
DTSTART:20261101T080000
END:STANDARD
BEGIN:DAYLIGHT
TZOFFSETFROM:-0700
TZOFFSETTO:-0600
TZNAME:MDT
DTSTART:20270314T090000
END:DAYLIGHT
BEGIN:STANDARD
TZOFFSETFROM:-0600
TZOFFSETTO:-0700
TZNAME:MST
DTSTART:20271107T080000
END:STANDARD
END:VTIMEZONE
BEGIN:VEVENT
DTSTART;TZID=America/Denver:20260522T120000
DTEND;TZID=America/Denver:20260522T130000
DTSTAMP:20260423T130413
CREATED:20240608T152048Z
LAST-MODIFIED:20250205T153915Z
UID:10002148-1779451200-1779454800@pikespkblues.org
SUMMARY:Jazz 93.5 Community Blues Hour with BJ Estares
DESCRIPTION:
URL:https://pikespkblues.org/event/jazz-93-5-community-blues-hour-with-bj-estares/2026-05-22/
LOCATION:CO
END:VEVENT
BEGIN:VEVENT
DTSTART;TZID=America/Denver:20260522T170000
DTEND;TZID=America/Denver:20260522T210000
DTSTAMP:20260423T130413
CREATED:20260405T143914Z
LAST-MODIFIED:20260405T143914Z
UID:10005810-1779469200-1779483600@pikespkblues.org
SUMMARY:Stanley Milton’s MeanStreak   *** PPBC Member Band ***
DESCRIPTION:Stanley Milton’s MeanStreak @ Whitewater Bar and Grill\, Cañon City on Saturday\, May 22nd from 5:00 pm to 9:00 pm.
URL:https://pikespkblues.org/event/stanley-miltons-meanstreak-ppbc-member-band/
LOCATION:Whitewater Bar and Grill\, 45045 Hwy 50 West\, Cañon City\, CO\, 81212\, United States
CATEGORIES:Concerts
END:VEVENT
BEGIN:VEVENT
DTSTART;TZID=America/Denver:20260522T180000
DTEND;TZID=America/Denver:20260522T210000
DTSTAMP:20260423T130413
CREATED:20260301T185523Z
LAST-MODIFIED:20260301T185523Z
UID:10005777-1779472800-1779483600@pikespkblues.org
SUMMARY:Tab Benoit with special guest Ghalia Volt - Soul of the Swamp Tour
DESCRIPTION:Tab Benoit with special guest Ghalia Volt – Soul of the Swamp Tour @ Phil Long Music Hall at Bourbon Brothers\, 13071 Bass Pro Dr (80921) on Friday\, May 22nd at 6:00 pm.
URL:https://pikespkblues.org/event/tab-benoit-with-special-guest-ghalia-volt-soul-of-the-swamp-tour/
LOCATION:Phil Long Music Hall\, 13071 Bass Pro Drive\, Colorado Springs\, CO\, 80921\, United States
CATEGORIES:Concerts
END:VEVENT
BEGIN:VEVENT
DTSTART;TZID=America/Denver:20260522T190000
DTEND;TZID=America/Denver:20260522T220000
DTSTAMP:20260423T130413
CREATED:20260416T184630Z
LAST-MODIFIED:20260416T184630Z
UID:10005813-1779476400-1779487200@pikespkblues.org
SUMMARY:Kara Grainger and The Michael Hornbuckle Band
DESCRIPTION:Kara Grainger and The Michael Hornbuckle Band @ Buffalo Rose\, 1119 Washington Ave\, Golden on Friday\, May 22nd at 7:00 pm.
URL:https://pikespkblues.org/event/kara-grainger-and-the-michael-hornbuckle-band/
LOCATION:Buffalo Rose\, 1119 Washington Ave\, Golden\, CO\, 80401
CATEGORIES:Concerts
END:VEVENT
END:VCALENDAR