BEGIN:VCALENDAR
VERSION:2.0
PRODID:-//Pikes Peak Blues Community - ECPv6.15.20//NONSGML v1.0//EN
CALSCALE:GREGORIAN
METHOD:PUBLISH
X-ORIGINAL-URL:https://pikespkblues.org
X-WR-CALDESC:Events for Pikes Peak Blues Community
REFRESH-INTERVAL;VALUE=DURATION:PT1H
X-Robots-Tag:noindex
X-PUBLISHED-TTL:PT1H
BEGIN:VTIMEZONE
TZID:America/Denver
BEGIN:DAYLIGHT
TZOFFSETFROM:-0700
TZOFFSETTO:-0600
TZNAME:MDT
DTSTART:20250309T090000
END:DAYLIGHT
BEGIN:STANDARD
TZOFFSETFROM:-0600
TZOFFSETTO:-0700
TZNAME:MST
DTSTART:20251102T080000
END:STANDARD
BEGIN:DAYLIGHT
TZOFFSETFROM:-0700
TZOFFSETTO:-0600
TZNAME:MDT
DTSTART:20260308T090000
END:DAYLIGHT
BEGIN:STANDARD
TZOFFSETFROM:-0600
TZOFFSETTO:-0700
TZNAME:MST
DTSTART:20261101T080000
END:STANDARD
BEGIN:DAYLIGHT
TZOFFSETFROM:-0700
TZOFFSETTO:-0600
TZNAME:MDT
DTSTART:20270314T090000
END:DAYLIGHT
BEGIN:STANDARD
TZOFFSETFROM:-0600
TZOFFSETTO:-0700
TZNAME:MST
DTSTART:20271107T080000
END:STANDARD
END:VTIMEZONE
BEGIN:VEVENT
DTSTART;TZID=America/Denver:20260503T114500
DTEND;TZID=America/Denver:20260503T234500
DTSTAMP:20260423T112530
CREATED:20260330T200308Z
LAST-MODIFIED:20260330T200308Z
UID:10005801-1777808700-1777851900@pikespkblues.org
SUMMARY:Bridging the Music Denver miniFEST with Hurricane Dave and The Storm Chasers *** PPBC Member Band ***
DESCRIPTION:Bridging the Music Denver miniFEST featuring Hurricane Dave and The Storm Chasers and many more bands @ Cervantes Other Side\, Denver on Saturday\, May 3rd from 11:45 am to 11:45 pm.
URL:https://pikespkblues.org/event/bridging-the-music-denver-minifest-with-hurricane-dave-and-the-storm-chasers-ppbc-member-band/
LOCATION:Cervantes’ Other Side\, 2637 Welton St\, Denver\, CO\, 80205\, United States
CATEGORIES:Concerts
END:VEVENT
BEGIN:VEVENT
DTSTART;TZID=America/Denver:20260503T133000
DTEND;TZID=America/Denver:20260503T150000
DTSTAMP:20260423T112530
CREATED:20260419T223608Z
LAST-MODIFIED:20260419T223608Z
UID:10005816-1777815000-1777820400@pikespkblues.org
SUMMARY:Delta Sonics with Al Chesis  *** PPBC Member Band ***
DESCRIPTION:Delta Sonics with Al Chesis @ Firefly Art Show on Gaylord St\, Denver on Sunday\, May 3rd at 1:30 pm.
URL:https://pikespkblues.org/event/delta-sonics-with-al-chesis-ppbc-member-band-62/
LOCATION:Firefly Handmade Market\, Old South Gaylord St\, Washington Park\, Denver\, CO\, 80209\, United States
CATEGORIES:Concerts
END:VEVENT
END:VCALENDAR