BEGIN:VCALENDAR
VERSION:2.0
PRODID:-//Pikes Peak Blues Community - ECPv6.15.20//NONSGML v1.0//EN
CALSCALE:GREGORIAN
METHOD:PUBLISH
X-ORIGINAL-URL:https://pikespkblues.org
X-WR-CALDESC:Events for Pikes Peak Blues Community
REFRESH-INTERVAL;VALUE=DURATION:PT1H
X-Robots-Tag:noindex
X-PUBLISHED-TTL:PT1H
BEGIN:VTIMEZONE
TZID:America/Denver
BEGIN:DAYLIGHT
TZOFFSETFROM:-0700
TZOFFSETTO:-0600
TZNAME:MDT
DTSTART:20250309T090000
END:DAYLIGHT
BEGIN:STANDARD
TZOFFSETFROM:-0600
TZOFFSETTO:-0700
TZNAME:MST
DTSTART:20251102T080000
END:STANDARD
BEGIN:DAYLIGHT
TZOFFSETFROM:-0700
TZOFFSETTO:-0600
TZNAME:MDT
DTSTART:20260308T090000
END:DAYLIGHT
BEGIN:STANDARD
TZOFFSETFROM:-0600
TZOFFSETTO:-0700
TZNAME:MST
DTSTART:20261101T080000
END:STANDARD
BEGIN:DAYLIGHT
TZOFFSETFROM:-0700
TZOFFSETTO:-0600
TZNAME:MDT
DTSTART:20270314T090000
END:DAYLIGHT
BEGIN:STANDARD
TZOFFSETFROM:-0600
TZOFFSETTO:-0700
TZNAME:MST
DTSTART:20271107T080000
END:STANDARD
END:VTIMEZONE
BEGIN:VEVENT
DTSTART;TZID=America/Denver:20260502T120000
DTEND;TZID=America/Denver:20260502T140000
DTSTAMP:20260423T112536
CREATED:20260419T223216Z
LAST-MODIFIED:20260419T223216Z
UID:10005815-1777723200-1777730400@pikespkblues.org
SUMMARY:Delta Sonics with Al Chesis  *** PPBC Member Band ***
DESCRIPTION:Delta Sonics with Al Chesis @ Mile High Flea Market\, Henderson on Saturday\, May 2nd at noon.
URL:https://pikespkblues.org/event/delta-sonics-with-al-chesis-ppbc-member-band-61/
LOCATION:Mile High Flea Market\, 7007 E 88th Ave\, Henderson\, CO\, 80640\, United States
CATEGORIES:Concerts
END:VEVENT
BEGIN:VEVENT
DTSTART;TZID=America/Denver:20260502T180000
DTEND;TZID=America/Denver:20260502T210000
DTSTAMP:20260423T112536
CREATED:20260324T053028Z
LAST-MODIFIED:20260324T053028Z
UID:10005796-1777744800-1777755600@pikespkblues.org
SUMMARY:Delta Sonics with Al Chesis  *** PPBC Member Band ***
DESCRIPTION:Delta Sonics with Al Chesis @ Clancy’s Irish Pub\, Wheat Ridge on Saturday\, May 2nd at 6:00 pm.
URL:https://pikespkblues.org/event/delta-sonics-with-al-chesis-ppbc-member-band-60/
LOCATION:Clancy’s Irish Pub\, 7000 W 38th Ave\, Wheat Ridge\, CO\, 80033\, United States
CATEGORIES:Concerts
END:VEVENT
BEGIN:VEVENT
DTSTART;TZID=America/Denver:20260502T193000
DTEND;TZID=America/Denver:20260502T220000
DTSTAMP:20260423T112536
CREATED:20260301T183833Z
LAST-MODIFIED:20260301T183833Z
UID:10005776-1777750200-1777759200@pikespkblues.org
SUMMARY:One Hundred Years of Blues with Charlie Musselwhite and Elvin Bishop
DESCRIPTION:One Hundred Years of Blues with Charlie Musselwhite and Elvin Bishop @ Lone Tree Arts Center\, Lone Tree on Saturday\, May 2nd at 7:30 pm.
URL:https://pikespkblues.org/event/one-hundred-years-of-blues-with-charlie-musselwhite-and-elvin-bishop/
LOCATION:Lone Tree Arts Center\, 10075 Commons St\, Lone Tree\, CO\, 80124\, United States
CATEGORIES:Concerts
END:VEVENT
END:VCALENDAR