BEGIN:VCALENDAR
VERSION:2.0
PRODID:-//Pikes Peak Blues Community - ECPv6.15.20//NONSGML v1.0//EN
CALSCALE:GREGORIAN
METHOD:PUBLISH
X-WR-CALNAME:Pikes Peak Blues Community
X-ORIGINAL-URL:https://pikespkblues.org
X-WR-CALDESC:Events for Pikes Peak Blues Community
REFRESH-INTERVAL;VALUE=DURATION:PT1H
X-Robots-Tag:noindex
X-PUBLISHED-TTL:PT1H
BEGIN:VTIMEZONE
TZID:America/Denver
BEGIN:DAYLIGHT
TZOFFSETFROM:-0700
TZOFFSETTO:-0600
TZNAME:MDT
DTSTART:20250309T090000
END:DAYLIGHT
BEGIN:STANDARD
TZOFFSETFROM:-0600
TZOFFSETTO:-0700
TZNAME:MST
DTSTART:20251102T080000
END:STANDARD
BEGIN:DAYLIGHT
TZOFFSETFROM:-0700
TZOFFSETTO:-0600
TZNAME:MDT
DTSTART:20260308T090000
END:DAYLIGHT
BEGIN:STANDARD
TZOFFSETFROM:-0600
TZOFFSETTO:-0700
TZNAME:MST
DTSTART:20261101T080000
END:STANDARD
BEGIN:DAYLIGHT
TZOFFSETFROM:-0700
TZOFFSETTO:-0600
TZNAME:MDT
DTSTART:20270314T090000
END:DAYLIGHT
BEGIN:STANDARD
TZOFFSETFROM:-0600
TZOFFSETTO:-0700
TZNAME:MST
DTSTART:20271107T080000
END:STANDARD
END:VTIMEZONE
BEGIN:VEVENT
DTSTART;TZID=America/Denver:20260430T120000
DTEND;TZID=America/Denver:20260430T130000
DTSTAMP:20260423T112407
CREATED:20240608T152048Z
LAST-MODIFIED:20250205T153915Z
UID:10002132-1777550400-1777554000@pikespkblues.org
SUMMARY:Jazz 93.5 Community Blues Hour with BJ Estares
DESCRIPTION:
URL:https://pikespkblues.org/event/jazz-93-5-community-blues-hour-with-bj-estares/2026-04-30/
LOCATION:CO
END:VEVENT
BEGIN:VEVENT
DTSTART;TZID=America/Denver:20260430T193000
DTEND;TZID=America/Denver:20260430T223000
DTSTAMP:20260423T112407
CREATED:20260119T041719Z
LAST-MODIFIED:20260213T034452Z
UID:10005668-1777577400-1777588200@pikespkblues.org
SUMMARY:Colorado Blues Society's A Sinners Blues Bash with Deborah Stafford & The Night Stalkers and The Tony Luke Band
DESCRIPTION:Colorado Blues Society’s Sinners Blues Bash with Deborah Stafford & The Night Stalkers and The Tony Luke Band @ Nissi’s\, Lafayette on Thursday\, April 30th at 7:30 pm.
URL:https://pikespkblues.org/event/colorado-blues-societys-birthday-blues-bash-with-deborah-stafford-the-night-stalkers-and-the-tony-luke-band/
LOCATION:Nissi’s\, 1455 Coal Creek Dr Unit T\, Lafayette\, CO\, 80026
CATEGORIES:Concerts
END:VEVENT
END:VCALENDAR