BEGIN:VCALENDAR
VERSION:2.0
PRODID:-//Pikes Peak Blues Community - ECPv6.15.20//NONSGML v1.0//EN
CALSCALE:GREGORIAN
METHOD:PUBLISH
X-ORIGINAL-URL:https://pikespkblues.org
X-WR-CALDESC:Events for Pikes Peak Blues Community
REFRESH-INTERVAL;VALUE=DURATION:PT1H
X-Robots-Tag:noindex
X-PUBLISHED-TTL:PT1H
BEGIN:VTIMEZONE
TZID:America/Denver
BEGIN:DAYLIGHT
TZOFFSETFROM:-0700
TZOFFSETTO:-0600
TZNAME:MDT
DTSTART:20250309T090000
END:DAYLIGHT
BEGIN:STANDARD
TZOFFSETFROM:-0600
TZOFFSETTO:-0700
TZNAME:MST
DTSTART:20251102T080000
END:STANDARD
BEGIN:DAYLIGHT
TZOFFSETFROM:-0700
TZOFFSETTO:-0600
TZNAME:MDT
DTSTART:20260308T090000
END:DAYLIGHT
BEGIN:STANDARD
TZOFFSETFROM:-0600
TZOFFSETTO:-0700
TZNAME:MST
DTSTART:20261101T080000
END:STANDARD
BEGIN:DAYLIGHT
TZOFFSETFROM:-0700
TZOFFSETTO:-0600
TZNAME:MDT
DTSTART:20270314T090000
END:DAYLIGHT
BEGIN:STANDARD
TZOFFSETFROM:-0600
TZOFFSETTO:-0700
TZNAME:MST
DTSTART:20271107T080000
END:STANDARD
END:VTIMEZONE
BEGIN:VEVENT
DTSTART;TZID=America/Denver:20260418T183000
DTEND;TZID=America/Denver:20260418T213000
DTSTAMP:20260423T112511
CREATED:20260320T182209Z
LAST-MODIFIED:20260409T233656Z
UID:10005691-1776537000-1776547800@pikespkblues.org
SUMMARY:Joe Sciallo and Nic Clark
DESCRIPTION:Joe Sciallo The Deep End with Nic Clark @ Summa\, 817 W Colorado Ave (80905) on Saturday\, April 18th from 6:30 pm to 9:30 pm.
URL:https://pikespkblues.org/event/joe-sciallo-and-nic-clark/
LOCATION:Summa\, 817 W. Colorado Ave\, Colorado Springs\, CO\, 80905\, United States
CATEGORIES:Concerts
END:VEVENT
BEGIN:VEVENT
DTSTART;TZID=America/Denver:20260418T200000
DTEND;TZID=America/Denver:20260418T230000
DTSTAMP:20260423T112511
CREATED:20260324T051846Z
LAST-MODIFIED:20260324T051846Z
UID:10005795-1776542400-1776553200@pikespkblues.org
SUMMARY:Delta Sonics with Al Chesis  *** PPBC Member Band ***
DESCRIPTION:Delta Sonics with Al Chesis @ The Louisville Underground\, Louisville on Saturday\, April 18th at 8:00 pm.
URL:https://pikespkblues.org/event/delta-sonics-with-al-chesis-ppbc-member-band-59/
LOCATION:The Louisville Underground\, 640 Main Street\, Louisville\, CO\, 80027\, United States
CATEGORIES:Concerts
END:VEVENT
END:VCALENDAR