BEGIN:VCALENDAR
VERSION:2.0
PRODID:-//Pikes Peak Blues Community - ECPv6.15.20//NONSGML v1.0//EN
CALSCALE:GREGORIAN
METHOD:PUBLISH
X-ORIGINAL-URL:https://pikespkblues.org
X-WR-CALDESC:Events for Pikes Peak Blues Community
REFRESH-INTERVAL;VALUE=DURATION:PT1H
X-Robots-Tag:noindex
X-PUBLISHED-TTL:PT1H
BEGIN:VTIMEZONE
TZID:America/Denver
BEGIN:DAYLIGHT
TZOFFSETFROM:-0700
TZOFFSETTO:-0600
TZNAME:MDT
DTSTART:20250309T090000
END:DAYLIGHT
BEGIN:STANDARD
TZOFFSETFROM:-0600
TZOFFSETTO:-0700
TZNAME:MST
DTSTART:20251102T080000
END:STANDARD
BEGIN:DAYLIGHT
TZOFFSETFROM:-0700
TZOFFSETTO:-0600
TZNAME:MDT
DTSTART:20260308T090000
END:DAYLIGHT
BEGIN:STANDARD
TZOFFSETFROM:-0600
TZOFFSETTO:-0700
TZNAME:MST
DTSTART:20261101T080000
END:STANDARD
BEGIN:DAYLIGHT
TZOFFSETFROM:-0700
TZOFFSETTO:-0600
TZNAME:MDT
DTSTART:20270314T090000
END:DAYLIGHT
BEGIN:STANDARD
TZOFFSETFROM:-0600
TZOFFSETTO:-0700
TZNAME:MST
DTSTART:20271107T080000
END:STANDARD
END:VTIMEZONE
BEGIN:VEVENT
DTSTART;TZID=America/Denver:20260417T120000
DTEND;TZID=America/Denver:20260417T130000
DTSTAMP:20260423T112614
CREATED:20240608T152048Z
LAST-MODIFIED:20250205T153915Z
UID:10002123-1776427200-1776430800@pikespkblues.org
SUMMARY:Jazz 93.5 Community Blues Hour with BJ Estares
DESCRIPTION:
URL:https://pikespkblues.org/event/jazz-93-5-community-blues-hour-with-bj-estares/2026-04-17/
LOCATION:CO
END:VEVENT
BEGIN:VEVENT
DTSTART;TZID=America/Denver:20260417T183000
DTEND;TZID=America/Denver:20260417T210000
DTSTAMP:20260423T112614
CREATED:20251125T170020Z
LAST-MODIFIED:20251125T170020Z
UID:10005611-1776450600-1776459600@pikespkblues.org
SUMMARY:Kent Burnside Blues Band
DESCRIPTION:Kent Burnside Blues Band @ Dazzle\, Denver on Friday\, April 17th at 6:30 pm
URL:https://pikespkblues.org/event/kent-burnside-blues-band/
LOCATION:Dazzle\, 1080 14th Street\, Denver\, CO\, 80202
CATEGORIES:Concerts
END:VEVENT
BEGIN:VEVENT
DTSTART;TZID=America/Denver:20260417T183000
DTEND;TZID=America/Denver:20260417T213000
DTSTAMP:20260423T112614
CREATED:20260401T204322Z
LAST-MODIFIED:20260401T204322Z
UID:10005807-1776450600-1776461400@pikespkblues.org
SUMMARY:Randy Stephens and The Groove Makers
DESCRIPTION:Randy Stephens and The Groove Makers @ Summa\, 817 W Colorado Ave (80905)\, on Friday\, April 17th from 6:30 pm to 9:30 pm.
URL:https://pikespkblues.org/event/randy-stephens-and-the-groove-makers-5/
LOCATION:Summa\, 817 W. Colorado Ave\, Colorado Springs\, CO\, 80905\, United States
CATEGORIES:Concerts
END:VEVENT
BEGIN:VEVENT
DTSTART;TZID=America/Denver:20260417T200000
DTEND;TZID=America/Denver:20260417T230000
DTSTAMP:20260423T112614
CREATED:20260324T050846Z
LAST-MODIFIED:20260324T050846Z
UID:10005794-1776456000-1776466800@pikespkblues.org
SUMMARY:Delta Sonics with Al Chesis  *** PPBC Member Band ***
DESCRIPTION:Delta Sonics with Al Chesis @ Lincoln’s Roadhouse\, Denver on Friday\, April 17th at 8:00 pm.
URL:https://pikespkblues.org/event/delta-sonics-with-al-chesis-ppbc-member-band-58/
LOCATION:CO
CATEGORIES:Concerts
END:VEVENT
END:VCALENDAR