BEGIN:VCALENDAR
VERSION:2.0
PRODID:-//Pikes Peak Blues Community - ECPv6.15.20//NONSGML v1.0//EN
CALSCALE:GREGORIAN
METHOD:PUBLISH
X-WR-CALNAME:Pikes Peak Blues Community
X-ORIGINAL-URL:https://pikespkblues.org
X-WR-CALDESC:Events for Pikes Peak Blues Community
REFRESH-INTERVAL;VALUE=DURATION:PT1H
X-Robots-Tag:noindex
X-PUBLISHED-TTL:PT1H
BEGIN:VTIMEZONE
TZID:America/Denver
BEGIN:DAYLIGHT
TZOFFSETFROM:-0700
TZOFFSETTO:-0600
TZNAME:MDT
DTSTART:20250309T090000
END:DAYLIGHT
BEGIN:STANDARD
TZOFFSETFROM:-0600
TZOFFSETTO:-0700
TZNAME:MST
DTSTART:20251102T080000
END:STANDARD
BEGIN:DAYLIGHT
TZOFFSETFROM:-0700
TZOFFSETTO:-0600
TZNAME:MDT
DTSTART:20260308T090000
END:DAYLIGHT
BEGIN:STANDARD
TZOFFSETFROM:-0600
TZOFFSETTO:-0700
TZNAME:MST
DTSTART:20261101T080000
END:STANDARD
BEGIN:DAYLIGHT
TZOFFSETFROM:-0700
TZOFFSETTO:-0600
TZNAME:MDT
DTSTART:20270314T090000
END:DAYLIGHT
BEGIN:STANDARD
TZOFFSETFROM:-0600
TZOFFSETTO:-0700
TZNAME:MST
DTSTART:20271107T080000
END:STANDARD
END:VTIMEZONE
BEGIN:VEVENT
DTSTART;TZID=America/Denver:20260408T120000
DTEND;TZID=America/Denver:20260408T130000
DTSTAMP:20260423T125357
CREATED:20240608T152048Z
LAST-MODIFIED:20250205T153915Z
UID:10002116-1775649600-1775653200@pikespkblues.org
SUMMARY:Jazz 93.5 Community Blues Hour with BJ Estares
DESCRIPTION:
URL:https://pikespkblues.org/event/jazz-93-5-community-blues-hour-with-bj-estares/2026-04-08/
LOCATION:CO
END:VEVENT
BEGIN:VEVENT
DTSTART;TZID=America/Denver:20260408T180000
DTEND;TZID=America/Denver:20260408T210000
DTSTAMP:20260423T125357
CREATED:20260403T224031Z
LAST-MODIFIED:20260404T060007Z
UID:10005808-1775671200-1775682000@pikespkblues.org
SUMMARY:Joe Sciallo & The Deep End  *** PPBC Member Band ***
DESCRIPTION:Joe Sciallo & The Deep End @ the reopened Navajo Hogan\, 2817 N Nevada Ave (80907)\, on Wednesday\, April 8th from 6:00 pm to 9:00 pm.
URL:https://pikespkblues.org/event/joe-sciallo-the-deep-end-ppbc-member-band-7/
LOCATION:The Navajo Hogan\, 2817 N Nevada Ave\, Colorado Springs\, CO\, 80907\, United States
CATEGORIES:Concerts
END:VEVENT
END:VCALENDAR