BEGIN:VCALENDAR
VERSION:2.0
PRODID:-//Pikes Peak Blues Community - ECPv6.15.20//NONSGML v1.0//EN
CALSCALE:GREGORIAN
METHOD:PUBLISH
X-WR-CALNAME:Pikes Peak Blues Community
X-ORIGINAL-URL:https://pikespkblues.org
X-WR-CALDESC:Events for Pikes Peak Blues Community
REFRESH-INTERVAL;VALUE=DURATION:PT1H
X-Robots-Tag:noindex
X-PUBLISHED-TTL:PT1H
BEGIN:VTIMEZONE
TZID:America/Denver
BEGIN:DAYLIGHT
TZOFFSETFROM:-0700
TZOFFSETTO:-0600
TZNAME:MDT
DTSTART:20250309T090000
END:DAYLIGHT
BEGIN:STANDARD
TZOFFSETFROM:-0600
TZOFFSETTO:-0700
TZNAME:MST
DTSTART:20251102T080000
END:STANDARD
BEGIN:DAYLIGHT
TZOFFSETFROM:-0700
TZOFFSETTO:-0600
TZNAME:MDT
DTSTART:20260308T090000
END:DAYLIGHT
BEGIN:STANDARD
TZOFFSETFROM:-0600
TZOFFSETTO:-0700
TZNAME:MST
DTSTART:20261101T080000
END:STANDARD
BEGIN:DAYLIGHT
TZOFFSETFROM:-0700
TZOFFSETTO:-0600
TZNAME:MDT
DTSTART:20270314T090000
END:DAYLIGHT
BEGIN:STANDARD
TZOFFSETFROM:-0600
TZOFFSETTO:-0700
TZNAME:MST
DTSTART:20271107T080000
END:STANDARD
END:VTIMEZONE
BEGIN:VEVENT
DTSTART;TZID=America/Denver:20260320T120000
DTEND;TZID=America/Denver:20260320T130000
DTSTAMP:20260423T130215
CREATED:20240608T152048Z
LAST-MODIFIED:20250205T153915Z
UID:10002103-1774008000-1774011600@pikespkblues.org
SUMMARY:Jazz 93.5 Community Blues Hour with BJ Estares
DESCRIPTION:
URL:https://pikespkblues.org/event/jazz-93-5-community-blues-hour-with-bj-estares/2026-03-20/
LOCATION:CO
END:VEVENT
BEGIN:VEVENT
DTSTART;TZID=America/Denver:20260320T190000
DTEND;TZID=America/Denver:20260320T223000
DTSTAMP:20260423T130215
CREATED:20260301T173713Z
LAST-MODIFIED:20260301T174439Z
UID:10005772-1774033200-1774045800@pikespkblues.org
SUMMARY:Marcus Motel & The Closers
DESCRIPTION:Marcus Motel & The Closers @ The Rusty Bucket Bar and Grill\, Lakewood on Friday\, March 20th at 7:00 pm.
URL:https://pikespkblues.org/event/marcus-motel-the-closers/
LOCATION:The Rusty Bucket Bar and Grill\, 3355 S Wadsworth\, Lakewood\, CO\, 80277\, United States
CATEGORIES:Concerts
END:VEVENT
BEGIN:VEVENT
DTSTART;TZID=America/Denver:20260320T200000
DTEND;TZID=America/Denver:20260320T230000
DTSTAMP:20260423T130215
CREATED:20260225T004718Z
LAST-MODIFIED:20260225T004718Z
UID:10005759-1774036800-1774047600@pikespkblues.org
SUMMARY:Delta Sonics with Al Chesis  *** PPBC Member Band ***
DESCRIPTION:Delta Sonics with Al Chesis @ Morrison Holiday Bar\, Morrison on Friday\, March 20th at 8:00 pm.
URL:https://pikespkblues.org/event/delta-sonics-with-al-chesis-ppbc-member-band-50/
LOCATION:Morrison Holiday Bar\, 403 Bear Creek Ave\, Morrison\, CO\, 80465
CATEGORIES:Concerts
END:VEVENT
END:VCALENDAR