BEGIN:VCALENDAR
VERSION:2.0
PRODID:-//Pikes Peak Blues Community - ECPv6.15.20//NONSGML v1.0//EN
CALSCALE:GREGORIAN
METHOD:PUBLISH
X-WR-CALNAME:Pikes Peak Blues Community
X-ORIGINAL-URL:https://pikespkblues.org
X-WR-CALDESC:Events for Pikes Peak Blues Community
REFRESH-INTERVAL;VALUE=DURATION:PT1H
X-Robots-Tag:noindex
X-PUBLISHED-TTL:PT1H
BEGIN:VTIMEZONE
TZID:America/Denver
BEGIN:DAYLIGHT
TZOFFSETFROM:-0700
TZOFFSETTO:-0600
TZNAME:MDT
DTSTART:20250309T090000
END:DAYLIGHT
BEGIN:STANDARD
TZOFFSETFROM:-0600
TZOFFSETTO:-0700
TZNAME:MST
DTSTART:20251102T080000
END:STANDARD
BEGIN:DAYLIGHT
TZOFFSETFROM:-0700
TZOFFSETTO:-0600
TZNAME:MDT
DTSTART:20260308T090000
END:DAYLIGHT
BEGIN:STANDARD
TZOFFSETFROM:-0600
TZOFFSETTO:-0700
TZNAME:MST
DTSTART:20261101T080000
END:STANDARD
BEGIN:DAYLIGHT
TZOFFSETFROM:-0700
TZOFFSETTO:-0600
TZNAME:MDT
DTSTART:20270314T090000
END:DAYLIGHT
BEGIN:STANDARD
TZOFFSETFROM:-0600
TZOFFSETTO:-0700
TZNAME:MST
DTSTART:20271107T080000
END:STANDARD
END:VTIMEZONE
BEGIN:VEVENT
DTSTART;TZID=America/Denver:20260307T180000
DTEND;TZID=America/Denver:20260307T210000
DTSTAMP:20260423T125234
CREATED:20260118T170454Z
LAST-MODIFIED:20260118T170454Z
UID:10005666-1772906400-1772917200@pikespkblues.org
SUMMARY:Rafiel and The Roomshakers
DESCRIPTION:Rafiel and The Roomshakers @ Rico’s Café and Wine Bar\, 322 1/2 N Tejon St (80903) on Saturday\, March 7th from 6:00 pm to 9:00 pm. No Cover.
URL:https://pikespkblues.org/event/rafiel-and-the-roomshakers-11/
LOCATION:Rico’s Cafe and Wine Bar\, 322 1/2\, N Tejon St\, Colorado Springs\, CO\, 80903\, United States
CATEGORIES:Concerts
END:VEVENT
BEGIN:VEVENT
DTSTART;TZID=America/Denver:20260307T183000
DTEND;TZID=America/Denver:20260307T213000
DTSTAMP:20260423T125234
CREATED:20260216T053259Z
LAST-MODIFIED:20260225T004220Z
UID:10005694-1772908200-1772919000@pikespkblues.org
SUMMARY:Joe Sciallo & The Deep End featuring Ed Liptak on saxophone   *** PPBC Member Band ***
DESCRIPTION:Joe Sciallo & The Deep End featuring Ed Liptak on saxophone @ Summa\, 817 W Colorado Ave (80905) on Saturday\, March 7th from 6:30 pm to 9:30 pm.
URL:https://pikespkblues.org/event/joe-sciallo-the-deep-end-ppbc-member-band-5/
LOCATION:Summa\, 817 W. Colorado Ave\, Colorado Springs\, CO\, 80905\, United States
CATEGORIES:Concerts
END:VEVENT
BEGIN:VEVENT
DTSTART;TZID=America/Denver:20260307T190000
DTEND;TZID=America/Denver:20260307T190000
DTSTAMP:20260423T125234
CREATED:20260225T015514Z
LAST-MODIFIED:20260225T015514Z
UID:10005765-1772910000-1772910000@pikespkblues.org
SUMMARY:Delta Sonics with Al Chesis  *** PPBC Member Band ***
DESCRIPTION:Delta Sonics with Al Chesis @ The Studio on Main Street\, Parker on March 7th at 7:oo pm.
URL:https://pikespkblues.org/event/delta-sonics-with-al-chesis-ppbc-member-band-52/
LOCATION:The Studio at Mainstreet\, 19604 E Mainstreet\, Parker\, CO\, 80138\, United States
CATEGORIES:Concerts
END:VEVENT
BEGIN:VEVENT
DTSTART;TZID=America/Denver:20260307T190000
DTEND;TZID=America/Denver:20260307T213000
DTSTAMP:20260423T125234
CREATED:20260128T222701Z
LAST-MODIFIED:20260216T045611Z
UID:10005677-1772910000-1772919000@pikespkblues.org
SUMMARY:Tommy Castro and The Painkillers
DESCRIPTION:Tommy Castro and The Painkillers @ Stargazers Theatre and Event Center\, Colorado Springs on Saturday\, March 7th at 7:00 pm. Doors open at 6:00 pm.
URL:https://pikespkblues.org/event/tommy-castro-and-the-painkillers-2/
LOCATION:Stargazers Theatre\, 10 S Parkside Dr\, Colorado Springs\, CO\, 80910\, United States
CATEGORIES:Concerts
END:VEVENT
BEGIN:VEVENT
DTSTART;TZID=America/Denver:20260307T190000
DTEND;TZID=America/Denver:20260307T213000
DTSTAMP:20260423T125234
CREATED:20260218T165255Z
LAST-MODIFIED:20260218T165255Z
UID:10005695-1772910000-1772919000@pikespkblues.org
SUMMARY:Delta Sonics with Al Chesis  *** PPBC Member Band ***
DESCRIPTION:Delta Sonics with Al Chesis @ The Studio on Main Street\, Parker on Saturday\, March 7th at 7:00 pm.
URL:https://pikespkblues.org/event/delta-sonics-with-al-chesis-ppbc-member-band-49/
LOCATION:The Studio at Mainstreet\, 19604 E Mainstreet\, Parker\, CO\, 80138\, United States
CATEGORIES:Concerts
END:VEVENT
BEGIN:VEVENT
DTSTART;TZID=America/Denver:20260307T190000
DTEND;TZID=America/Denver:20260307T220000
DTSTAMP:20260423T125234
CREATED:20260302T184138Z
LAST-MODIFIED:20260302T184252Z
UID:10005778-1772910000-1772920800@pikespkblues.org
SUMMARY:Randy Stephens and The Groove Makers
DESCRIPTION:Dizzy Charlie’s presents Blues at the Lounge – Randy Stephens and The Groove Makers @ The Best Coffee and Lounge\, 401 N Tejon St (80903)\, on Saturday\, March 7th from 7:00 pm to 10:00 pm.
URL:https://pikespkblues.org/event/randy-stephens-and-the-groove-makers-4/
LOCATION:The Best Coffee & Lounge\, 401 N Tejon St\, Colorado Springs\, CO\, 80903\, United States
CATEGORIES:Concerts
END:VEVENT
END:VCALENDAR