BEGIN:VCALENDAR
VERSION:2.0
PRODID:-//Pikes Peak Blues Community - ECPv6.15.20//NONSGML v1.0//EN
CALSCALE:GREGORIAN
METHOD:PUBLISH
X-ORIGINAL-URL:https://pikespkblues.org
X-WR-CALDESC:Events for Pikes Peak Blues Community
REFRESH-INTERVAL;VALUE=DURATION:PT1H
X-Robots-Tag:noindex
X-PUBLISHED-TTL:PT1H
BEGIN:VTIMEZONE
TZID:America/Denver
BEGIN:DAYLIGHT
TZOFFSETFROM:-0700
TZOFFSETTO:-0600
TZNAME:MDT
DTSTART:20250309T090000
END:DAYLIGHT
BEGIN:STANDARD
TZOFFSETFROM:-0600
TZOFFSETTO:-0700
TZNAME:MST
DTSTART:20251102T080000
END:STANDARD
BEGIN:DAYLIGHT
TZOFFSETFROM:-0700
TZOFFSETTO:-0600
TZNAME:MDT
DTSTART:20260308T090000
END:DAYLIGHT
BEGIN:STANDARD
TZOFFSETFROM:-0600
TZOFFSETTO:-0700
TZNAME:MST
DTSTART:20261101T080000
END:STANDARD
BEGIN:DAYLIGHT
TZOFFSETFROM:-0700
TZOFFSETTO:-0600
TZNAME:MDT
DTSTART:20270314T090000
END:DAYLIGHT
BEGIN:STANDARD
TZOFFSETFROM:-0600
TZOFFSETTO:-0700
TZNAME:MST
DTSTART:20271107T080000
END:STANDARD
END:VTIMEZONE
BEGIN:VEVENT
DTSTART;TZID=America/Denver:20260306T120000
DTEND;TZID=America/Denver:20260306T130000
DTSTAMP:20260423T131430
CREATED:20240608T152048Z
LAST-MODIFIED:20250205T153915Z
UID:10002093-1772798400-1772802000@pikespkblues.org
SUMMARY:Jazz 93.5 Community Blues Hour with BJ Estares
DESCRIPTION:
URL:https://pikespkblues.org/event/jazz-93-5-community-blues-hour-with-bj-estares/2026-03-06/
LOCATION:CO
END:VEVENT
BEGIN:VEVENT
DTSTART;TZID=America/Denver:20260306T180000
DTEND;TZID=America/Denver:20260306T210000
DTSTAMP:20260423T131430
CREATED:20260118T170132Z
LAST-MODIFIED:20260118T170132Z
UID:10005665-1772820000-1772830800@pikespkblues.org
SUMMARY:The Cleveland Experiment
DESCRIPTION:The Cleveland Experiment @ Rico’s Café and Wine Bar\, 322 1/2 N Tejon St (80903) on Friday\, March 6th from 6:00 pm to 9:00 pm. No Cover.
URL:https://pikespkblues.org/event/the-cleveland-experiment-19/
LOCATION:Rico’s Cafe and Wine Bar\, 322 1/2\, N Tejon St\, Colorado Springs\, CO\, 80903\, United States
CATEGORIES:Concerts
END:VEVENT
BEGIN:VEVENT
DTSTART;TZID=America/Denver:20260306T180000
DTEND;TZID=America/Denver:20260306T210000
DTSTAMP:20260423T131430
CREATED:20260225T012501Z
LAST-MODIFIED:20260225T012501Z
UID:10005764-1772820000-1772830800@pikespkblues.org
SUMMARY:Delta Sonics with Al Chesis  *** PPBC Member Band ***
DESCRIPTION:Delta Sonics with Al Chesis @ T-Birds Roadhouse\, Wheat Ridge on Friday\, March 6th at 6:00 pm.
URL:https://pikespkblues.org/event/delta-sonics-with-al-chesis-ppbc-member-band-51/
LOCATION:T-Birds Roadhouse\, 9701 W 44th Ave\, Wheat Ridge\, CO\, 80033\, United States
CATEGORIES:Concerts
END:VEVENT
BEGIN:VEVENT
DTSTART;TZID=America/Denver:20260306T200000
DTEND;TZID=America/Denver:20260306T223000
DTSTAMP:20260423T131430
CREATED:20260128T221846Z
LAST-MODIFIED:20260128T221846Z
UID:10005675-1772827200-1772836200@pikespkblues.org
SUMMARY:Tinsley Ellis - Labor of Love Acoustic Tour
DESCRIPTION:Tinsley Ellis @ Velvet Elk Lodge\, Boulder on Friday\, March 6th at 8:00 pm.
URL:https://pikespkblues.org/event/tinsley-ellis-labor-of-love-acoustic-tour/
LOCATION:Velvet Elk Lounge\, 2037 13th St\, Boulder\, CO\, 80392\, United States
CATEGORIES:Concerts
END:VEVENT
END:VCALENDAR