BEGIN:VCALENDAR
VERSION:2.0
PRODID:-//Pikes Peak Blues Community - ECPv6.15.20//NONSGML v1.0//EN
CALSCALE:GREGORIAN
METHOD:PUBLISH
X-ORIGINAL-URL:https://pikespkblues.org
X-WR-CALDESC:Events for Pikes Peak Blues Community
REFRESH-INTERVAL;VALUE=DURATION:PT1H
X-Robots-Tag:noindex
X-PUBLISHED-TTL:PT1H
BEGIN:VTIMEZONE
TZID:America/Denver
BEGIN:DAYLIGHT
TZOFFSETFROM:-0700
TZOFFSETTO:-0600
TZNAME:MDT
DTSTART:20250309T090000
END:DAYLIGHT
BEGIN:STANDARD
TZOFFSETFROM:-0600
TZOFFSETTO:-0700
TZNAME:MST
DTSTART:20251102T080000
END:STANDARD
BEGIN:DAYLIGHT
TZOFFSETFROM:-0700
TZOFFSETTO:-0600
TZNAME:MDT
DTSTART:20260308T090000
END:DAYLIGHT
BEGIN:STANDARD
TZOFFSETFROM:-0600
TZOFFSETTO:-0700
TZNAME:MST
DTSTART:20261101T080000
END:STANDARD
BEGIN:DAYLIGHT
TZOFFSETFROM:-0700
TZOFFSETTO:-0600
TZNAME:MDT
DTSTART:20270314T090000
END:DAYLIGHT
BEGIN:STANDARD
TZOFFSETFROM:-0600
TZOFFSETTO:-0700
TZNAME:MST
DTSTART:20271107T080000
END:STANDARD
END:VTIMEZONE
BEGIN:VEVENT
DTSTART;TZID=America/Denver:20260213T120000
DTEND;TZID=America/Denver:20260213T130000
DTSTAMP:20260423T144436
CREATED:20240608T152048Z
LAST-MODIFIED:20250205T153915Z
UID:10002078-1770984000-1770987600@pikespkblues.org
SUMMARY:Jazz 93.5 Community Blues Hour with BJ Estares
DESCRIPTION:
URL:https://pikespkblues.org/event/jazz-93-5-community-blues-hour-with-bj-estares/2026-02-13/
LOCATION:CO
END:VEVENT
BEGIN:VEVENT
DTSTART;TZID=America/Denver:20260213T183000
DTEND;TZID=America/Denver:20260213T213000
DTSTAMP:20260423T144436
CREATED:20260118T164957Z
LAST-MODIFIED:20260216T052015Z
UID:10005662-1771007400-1771018200@pikespkblues.org
SUMMARY:Hoodoo Honey    *** PPBC Member Band ***
DESCRIPTION:Hoodoo Honey @ Summa\, 817 W Colorado Ave (80905) on Friday\, February 13th from 6:30 pm to 9:30 pm.
URL:https://pikespkblues.org/event/hoodoo-honey-ppbc-member-band-7/
LOCATION:Summa\, 817 W. Colorado Ave\, Colorado Springs\, CO\, 80905\, United States
CATEGORIES:Concerts
END:VEVENT
BEGIN:VEVENT
DTSTART;TZID=America/Denver:20260213T193000
DTEND;TZID=America/Denver:20260213T220000
DTSTAMP:20260423T144436
CREATED:20260205T162040Z
LAST-MODIFIED:20260205T162040Z
UID:10005686-1771011000-1771020000@pikespkblues.org
SUMMARY:The Record Company
DESCRIPTION:The Record Company @ Boulder Theatre\, Boulder on Friday\, February 13th at 7:30 pm.
URL:https://pikespkblues.org/event/the-record-company-2/
LOCATION:Boulder Theater\, 2032 14th St\, Boulder\, CO\, 80302
CATEGORIES:Concerts
END:VEVENT
END:VCALENDAR