BEGIN:VCALENDAR
VERSION:2.0
PRODID:-//Pikes Peak Blues Community - ECPv6.15.20//NONSGML v1.0//EN
CALSCALE:GREGORIAN
METHOD:PUBLISH
X-ORIGINAL-URL:https://pikespkblues.org
X-WR-CALDESC:Events for Pikes Peak Blues Community
REFRESH-INTERVAL;VALUE=DURATION:PT1H
X-Robots-Tag:noindex
X-PUBLISHED-TTL:PT1H
BEGIN:VTIMEZONE
TZID:America/Denver
BEGIN:DAYLIGHT
TZOFFSETFROM:-0700
TZOFFSETTO:-0600
TZNAME:MDT
DTSTART:20250309T090000
END:DAYLIGHT
BEGIN:STANDARD
TZOFFSETFROM:-0600
TZOFFSETTO:-0700
TZNAME:MST
DTSTART:20251102T080000
END:STANDARD
BEGIN:DAYLIGHT
TZOFFSETFROM:-0700
TZOFFSETTO:-0600
TZNAME:MDT
DTSTART:20260308T090000
END:DAYLIGHT
BEGIN:STANDARD
TZOFFSETFROM:-0600
TZOFFSETTO:-0700
TZNAME:MST
DTSTART:20261101T080000
END:STANDARD
BEGIN:DAYLIGHT
TZOFFSETFROM:-0700
TZOFFSETTO:-0600
TZNAME:MDT
DTSTART:20270314T090000
END:DAYLIGHT
BEGIN:STANDARD
TZOFFSETFROM:-0600
TZOFFSETTO:-0700
TZNAME:MST
DTSTART:20271107T080000
END:STANDARD
END:VTIMEZONE
BEGIN:VEVENT
DTSTART;TZID=America/Denver:20260115T120000
DTEND;TZID=America/Denver:20260115T130000
DTSTAMP:20260423T161944
CREATED:20240608T152048Z
LAST-MODIFIED:20250205T153915Z
UID:10002057-1768478400-1768482000@pikespkblues.org
SUMMARY:Jazz 93.5 Community Blues Hour with BJ Estares
DESCRIPTION:
URL:https://pikespkblues.org/event/jazz-93-5-community-blues-hour-with-bj-estares/2026-01-15/
LOCATION:CO
END:VEVENT
BEGIN:VEVENT
DTSTART;TZID=America/Denver:20260115T200000
DTEND;TZID=America/Denver:20260115T200000
DTSTAMP:20260423T161944
CREATED:20251025T203659Z
LAST-MODIFIED:20260401T142351Z
UID:10005579-1768507200-1768507200@pikespkblues.org
SUMMARY:Colorado Blues Dance Shimmy Shakin' Blues 3 Year Anniversary Party with The Delta Sonics
DESCRIPTION:Colorado Blues Dance Shimmy Shakin’ Blues 3 Year Anniversary Party featuring The Delta Sonics with Al Chesis ***PPBC Member Band *** @ The Pearl\, Denver on Thursday\, January 15th from 8:00 pm to Midnight. Blues Musician Podcast Interview 7:00-8:00pm.
URL:https://pikespkblues.org/event/colorado-blues-dance-shimmy-shakin-blues-3-year-anniversary-party-with-the-delta-sonics/
LOCATION:The Pearl\, 2199 California St\, Denver\, CO\, 80205\, United States
CATEGORIES:Concerts,Dance
END:VEVENT
END:VCALENDAR