BEGIN:VCALENDAR
VERSION:2.0
PRODID:-//Pikes Peak Blues Community - ECPv6.15.20//NONSGML v1.0//EN
CALSCALE:GREGORIAN
METHOD:PUBLISH
X-ORIGINAL-URL:https://pikespkblues.org
X-WR-CALDESC:Events for Pikes Peak Blues Community
REFRESH-INTERVAL;VALUE=DURATION:PT1H
X-Robots-Tag:noindex
X-PUBLISHED-TTL:PT1H
BEGIN:VTIMEZONE
TZID:America/Denver
BEGIN:DAYLIGHT
TZOFFSETFROM:-0700
TZOFFSETTO:-0600
TZNAME:MDT
DTSTART:20240310T090000
END:DAYLIGHT
BEGIN:STANDARD
TZOFFSETFROM:-0600
TZOFFSETTO:-0700
TZNAME:MST
DTSTART:20241103T080000
END:STANDARD
BEGIN:DAYLIGHT
TZOFFSETFROM:-0700
TZOFFSETTO:-0600
TZNAME:MDT
DTSTART:20250309T090000
END:DAYLIGHT
BEGIN:STANDARD
TZOFFSETFROM:-0600
TZOFFSETTO:-0700
TZNAME:MST
DTSTART:20251102T080000
END:STANDARD
BEGIN:DAYLIGHT
TZOFFSETFROM:-0700
TZOFFSETTO:-0600
TZNAME:MDT
DTSTART:20260308T090000
END:DAYLIGHT
BEGIN:STANDARD
TZOFFSETFROM:-0600
TZOFFSETTO:-0700
TZNAME:MST
DTSTART:20261101T080000
END:STANDARD
END:VTIMEZONE
BEGIN:VEVENT
DTSTART;TZID=America/Denver:20251231T120000
DTEND;TZID=America/Denver:20251231T130000
DTSTAMP:20260423T161513
CREATED:20240608T152048Z
LAST-MODIFIED:20250205T153915Z
UID:10002046-1767182400-1767186000@pikespkblues.org
SUMMARY:Jazz 93.5 Community Blues Hour with BJ Estares
DESCRIPTION:
URL:https://pikespkblues.org/event/jazz-93-5-community-blues-hour-with-bj-estares/2025-12-31/
LOCATION:CO
END:VEVENT
BEGIN:VEVENT
DTSTART;TZID=America/Denver:20251231T180000
DTEND;TZID=America/Denver:20251231T210000
DTSTAMP:20260423T161513
CREATED:20251202T170025Z
LAST-MODIFIED:20251202T170025Z
UID:10005620-1767204000-1767214800@pikespkblues.org
SUMMARY:Delta Sonics with Al Chesis - New Years Eve!!  *** PPBC Member Band ***
DESCRIPTION:Delta Sonics with Al Chesis – New Years Eve!! @ Clancy’s Irish Pub\, Wheat Ridge on Wednesday\, December 31st at 6:00 pm.
URL:https://pikespkblues.org/event/delta-sonics-with-al-chesis-new-years-eve-ppbc-member-band/
LOCATION:Clancy’s Irish Pub\, 7000 W 38th Ave\, Wheat Ridge\, CO\, 80033\, United States
CATEGORIES:Concerts
END:VEVENT
BEGIN:VEVENT
DTSTART;TZID=America/Denver:20251231T210000
DTEND;TZID=America/Denver:20251231T210000
DTSTAMP:20260423T161513
CREATED:20251025T223808Z
LAST-MODIFIED:20251025T223808Z
UID:10005585-1767214800-1767214800@pikespkblues.org
SUMMARY:The Jack Hadley Band
DESCRIPTION:The Jack Hadley Band @ Windsor Mill Tavern\, Windsor on Wednesday\, December 31st from 9:00 pm to Midnight.
URL:https://pikespkblues.org/event/the-jack-hadley-band/
LOCATION:Windsor Mill Tavern\, 301 Main St\, Windsor\, CO\, 80550\, United States
CATEGORIES:Concerts
END:VEVENT
END:VCALENDAR