BEGIN:VCALENDAR
VERSION:2.0
PRODID:-//Pikes Peak Blues Community - ECPv6.15.20//NONSGML v1.0//EN
CALSCALE:GREGORIAN
METHOD:PUBLISH
X-ORIGINAL-URL:https://pikespkblues.org
X-WR-CALDESC:Events for Pikes Peak Blues Community
REFRESH-INTERVAL;VALUE=DURATION:PT1H
X-Robots-Tag:noindex
X-PUBLISHED-TTL:PT1H
BEGIN:VTIMEZONE
TZID:America/Denver
BEGIN:DAYLIGHT
TZOFFSETFROM:-0700
TZOFFSETTO:-0600
TZNAME:MDT
DTSTART:20240310T090000
END:DAYLIGHT
BEGIN:STANDARD
TZOFFSETFROM:-0600
TZOFFSETTO:-0700
TZNAME:MST
DTSTART:20241103T080000
END:STANDARD
BEGIN:DAYLIGHT
TZOFFSETFROM:-0700
TZOFFSETTO:-0600
TZNAME:MDT
DTSTART:20250309T090000
END:DAYLIGHT
BEGIN:STANDARD
TZOFFSETFROM:-0600
TZOFFSETTO:-0700
TZNAME:MST
DTSTART:20251102T080000
END:STANDARD
BEGIN:DAYLIGHT
TZOFFSETFROM:-0700
TZOFFSETTO:-0600
TZNAME:MDT
DTSTART:20260308T090000
END:DAYLIGHT
BEGIN:STANDARD
TZOFFSETFROM:-0600
TZOFFSETTO:-0700
TZNAME:MST
DTSTART:20261101T080000
END:STANDARD
END:VTIMEZONE
BEGIN:VEVENT
DTSTART;TZID=America/Denver:20251227T133000
DTEND;TZID=America/Denver:20251227T163000
DTSTAMP:20260423T195747
CREATED:20251202T165116Z
LAST-MODIFIED:20251202T165116Z
UID:10005618-1766842200-1766853000@pikespkblues.org
SUMMARY:Delta Sonics with Al Chesis  *** PPBC Member Band ***
DESCRIPTION:Delta Sonics with Al Chesis @ Bonacquisti Wine Company\, Denver on Saturday\, December 27th at 1:30 pm.
URL:https://pikespkblues.org/event/delta-sonics-with-al-chesis-ppbc-member-band-31/
LOCATION:Bonacquisti Wine Company\, 4640 Pecos St Unit I\, Denver\, CO\, 80211\, United States
CATEGORIES:Concerts
END:VEVENT
BEGIN:VEVENT
DTSTART;TZID=America/Denver:20251227T180000
DTEND;TZID=America/Denver:20251227T210000
DTSTAMP:20260423T195747
CREATED:20251106T041116Z
LAST-MODIFIED:20251106T041116Z
UID:10005598-1766858400-1766869200@pikespkblues.org
SUMMARY:Deborah Stafford and The Night Stalkers
DESCRIPTION:Deborah Stafford and The Night Stalkers @ Bricks on Main\, Longmont on Saturday\, December 27th from 6:00 pm to 9:9:00 pm
URL:https://pikespkblues.org/event/deborah-stafford-and-the-night-stalkers-4/
LOCATION:Bricks on Main Street\, 471 Main St\, Longmont\, CO\, 80501\, United States
CATEGORIES:Concerts
END:VEVENT
BEGIN:VEVENT
DTSTART;TZID=America/Denver:20251227T190000
DTEND;TZID=America/Denver:20251227T220000
DTSTAMP:20260423T195747
CREATED:20251219T202323Z
LAST-MODIFIED:20251219T203917Z
UID:10005623-1766862000-1766872800@pikespkblues.org
SUMMARY:Randy Stephens and The Groove Makers
DESCRIPTION:  \n \nRandy Stephens and The Groove Makers @ The Best Coffee & Lounge\, 401 N Tejon St (80903) on Saturday\, December 27th from 700 pm to 10:00 pm.  A Dizzy Charlies Blues In The Lounge event. \n 
URL:https://pikespkblues.org/event/randy-stephens-and-the-groove-makers-2/
LOCATION:The Best Coffee & Lounge\, 401 N Tejon St\, Colorado Springs\, CO\, 80903\, United States
CATEGORIES:Concerts
END:VEVENT
BEGIN:VEVENT
DTSTART;TZID=America/Denver:20251227T200000
DTEND;TZID=America/Denver:20251227T200000
DTSTAMP:20260423T195747
CREATED:20251202T165416Z
LAST-MODIFIED:20251202T165416Z
UID:10005619-1766865600-1766865600@pikespkblues.org
SUMMARY:Delta Sonics with Al Chesis  *** PPBC Member Band ***
DESCRIPTION:Delta Sonics with Al Chesis @ Lincoln’s Roadhouse\, Denver on Saturday\, December 27th at 8:00 pm.
URL:https://pikespkblues.org/event/delta-sonics-with-al-chesis-ppbc-member-band-32/
LOCATION:Lincoln’s Roadhouse\, 1201 S Pearl St\, Denver\, CO\, 80210\, United States
CATEGORIES:Concerts
END:VEVENT
END:VCALENDAR