BEGIN:VCALENDAR
VERSION:2.0
PRODID:-//Pikes Peak Blues Community - ECPv6.15.20//NONSGML v1.0//EN
CALSCALE:GREGORIAN
METHOD:PUBLISH
X-WR-CALNAME:Pikes Peak Blues Community
X-ORIGINAL-URL:https://pikespkblues.org
X-WR-CALDESC:Events for Pikes Peak Blues Community
REFRESH-INTERVAL;VALUE=DURATION:PT1H
X-Robots-Tag:noindex
X-PUBLISHED-TTL:PT1H
BEGIN:VTIMEZONE
TZID:America/Denver
BEGIN:DAYLIGHT
TZOFFSETFROM:-0700
TZOFFSETTO:-0600
TZNAME:MDT
DTSTART:20240310T090000
END:DAYLIGHT
BEGIN:STANDARD
TZOFFSETFROM:-0600
TZOFFSETTO:-0700
TZNAME:MST
DTSTART:20241103T080000
END:STANDARD
BEGIN:DAYLIGHT
TZOFFSETFROM:-0700
TZOFFSETTO:-0600
TZNAME:MDT
DTSTART:20250309T090000
END:DAYLIGHT
BEGIN:STANDARD
TZOFFSETFROM:-0600
TZOFFSETTO:-0700
TZNAME:MST
DTSTART:20251102T080000
END:STANDARD
BEGIN:DAYLIGHT
TZOFFSETFROM:-0700
TZOFFSETTO:-0600
TZNAME:MDT
DTSTART:20260308T090000
END:DAYLIGHT
BEGIN:STANDARD
TZOFFSETFROM:-0600
TZOFFSETTO:-0700
TZNAME:MST
DTSTART:20261101T080000
END:STANDARD
END:VTIMEZONE
BEGIN:VEVENT
DTSTART;TZID=America/Denver:20251109T140000
DTEND;TZID=America/Denver:20251109T170000
DTSTAMP:20260424T004653
CREATED:20251106T173050Z
LAST-MODIFIED:20251106T173050Z
UID:10005600-1762696800-1762707600@pikespkblues.org
SUMMARY:Celebration of Life Concert for Mark Van Ark
DESCRIPTION:Celebration of Life Concert for Mark Van Ark featuring Walt Jenkins\, Maddog Friedman\, John Magnie\, Johnny Johnson\, Mark Sloniker\, Peaches Embry\, David White\, and many others @ Avogadro’s Number\, Fort Collins on Sunday\, November 9th from 2:00 pm to 5:00 pm
URL:https://pikespkblues.org/event/celebration-of-life-concert-for-mark-van-ark/
LOCATION:Avogadro’s Number\, 605 South Mason Street\, Fort Collins\, CO\, 80524\, United States
CATEGORIES:Concerts
END:VEVENT
BEGIN:VEVENT
DTSTART;TZID=America/Denver:20251109T170000
DTEND;TZID=America/Denver:20251109T193000
DTSTAMP:20260424T004653
CREATED:20251017T155218Z
LAST-MODIFIED:20251017T161757Z
UID:10005574-1762707600-1762716600@pikespkblues.org
SUMMARY:Deborah Stafford and The Flatirons Jazz Orchestra
DESCRIPTION:Deborah Stafford and The Flatirons Jazz Orchestra @ Buffalo Rose Event Center\, Golden on Sunday\, November 9th from 5:00 pm to 7:30 pm. Free dance lessons from 4:00 pm to 5:00 pm.
URL:https://pikespkblues.org/event/deborah-stafford-and-the-flatirons-jazz-orchestra-2/
LOCATION:Buffalo Rose\, 1119 Washington Ave\, Golden\, CO\, 80401
CATEGORIES:Concerts
END:VEVENT
END:VCALENDAR