BEGIN:VCALENDAR
VERSION:2.0
PRODID:-//Pikes Peak Blues Community - ECPv6.15.20//NONSGML v1.0//EN
CALSCALE:GREGORIAN
METHOD:PUBLISH
X-ORIGINAL-URL:https://pikespkblues.org
X-WR-CALDESC:Events for Pikes Peak Blues Community
REFRESH-INTERVAL;VALUE=DURATION:PT1H
X-Robots-Tag:noindex
X-PUBLISHED-TTL:PT1H
BEGIN:VTIMEZONE
TZID:America/Denver
BEGIN:DAYLIGHT
TZOFFSETFROM:-0700
TZOFFSETTO:-0600
TZNAME:MDT
DTSTART:20240310T090000
END:DAYLIGHT
BEGIN:STANDARD
TZOFFSETFROM:-0600
TZOFFSETTO:-0700
TZNAME:MST
DTSTART:20241103T080000
END:STANDARD
BEGIN:DAYLIGHT
TZOFFSETFROM:-0700
TZOFFSETTO:-0600
TZNAME:MDT
DTSTART:20250309T090000
END:DAYLIGHT
BEGIN:STANDARD
TZOFFSETFROM:-0600
TZOFFSETTO:-0700
TZNAME:MST
DTSTART:20251102T080000
END:STANDARD
BEGIN:DAYLIGHT
TZOFFSETFROM:-0700
TZOFFSETTO:-0600
TZNAME:MDT
DTSTART:20260308T090000
END:DAYLIGHT
BEGIN:STANDARD
TZOFFSETFROM:-0600
TZOFFSETTO:-0700
TZNAME:MST
DTSTART:20261101T080000
END:STANDARD
END:VTIMEZONE
BEGIN:VEVENT
DTSTART;TZID=America/Denver:20251031T120000
DTEND;TZID=America/Denver:20251031T130000
DTSTAMP:20260424T041839
CREATED:20240608T152048Z
LAST-MODIFIED:20250205T153915Z
UID:10002003-1761912000-1761915600@pikespkblues.org
SUMMARY:Jazz 93.5 Community Blues Hour with BJ Estares
DESCRIPTION:
URL:https://pikespkblues.org/event/jazz-93-5-community-blues-hour-with-bj-estares/2025-10-31/
LOCATION:CO
END:VEVENT
BEGIN:VEVENT
DTSTART;TZID=America/Denver:20251031T180000
DTEND;TZID=America/Denver:20251031T210000
DTSTAMP:20260424T041839
CREATED:20251029T183126Z
LAST-MODIFIED:20251029T183126Z
UID:10005589-1761933600-1761944400@pikespkblues.org
SUMMARY:Delta Sonics with Al Chesis  *** PPBC Member Band ***
DESCRIPTION:Delta Sonics with Al Chesis @ Clancy’s Irish Pub’s Halloween Party\, Wheat Ridge on October 31st at 6:00 pm.
URL:https://pikespkblues.org/event/delta-sonics-with-al-chesis-ppbc-member-band-25/
LOCATION:Clancy’s Irish Pub\, 7000 W 38th Ave\, Wheat Ridge\, CO\, 80033\, United States
CATEGORIES:Concerts
END:VEVENT
BEGIN:VEVENT
DTSTART;TZID=America/Denver:20251031T183000
DTEND;TZID=America/Denver:20251031T213000
DTSTAMP:20260424T041839
CREATED:20250916T160659Z
LAST-MODIFIED:20250928T012334Z
UID:10004511-1761935400-1761946200@pikespkblues.org
SUMMARY:PPBC Halloween Party with The Cleveland Experiment and Tommy Saxman
DESCRIPTION:PPBC Halloween Party with The Cleveland Experiment and PPBC members Tommy Saxman and Teri Senior @ Summa Taphouse\, 817 W Colorado Ave\, Colorado Springs on Friday\, October 31st at 6:30 pm – $10.00 cover.
URL:https://pikespkblues.org/event/ppbc-halloween-party-with-the-cleveland-experiment-and-tommy-saxman/
LOCATION:Summa\, 817 W. Colorado Ave\, Colorado Springs\, CO\, 80905\, United States
CATEGORIES:Concerts
END:VEVENT
END:VCALENDAR