BEGIN:VCALENDAR
VERSION:2.0
PRODID:-//Pikes Peak Blues Community - ECPv6.15.20//NONSGML v1.0//EN
CALSCALE:GREGORIAN
METHOD:PUBLISH
X-WR-CALNAME:Pikes Peak Blues Community
X-ORIGINAL-URL:https://pikespkblues.org
X-WR-CALDESC:Events for Pikes Peak Blues Community
REFRESH-INTERVAL;VALUE=DURATION:PT1H
X-Robots-Tag:noindex
X-PUBLISHED-TTL:PT1H
BEGIN:VTIMEZONE
TZID:America/Denver
BEGIN:DAYLIGHT
TZOFFSETFROM:-0700
TZOFFSETTO:-0600
TZNAME:MDT
DTSTART:20240310T090000
END:DAYLIGHT
BEGIN:STANDARD
TZOFFSETFROM:-0600
TZOFFSETTO:-0700
TZNAME:MST
DTSTART:20241103T080000
END:STANDARD
BEGIN:DAYLIGHT
TZOFFSETFROM:-0700
TZOFFSETTO:-0600
TZNAME:MDT
DTSTART:20250309T090000
END:DAYLIGHT
BEGIN:STANDARD
TZOFFSETFROM:-0600
TZOFFSETTO:-0700
TZNAME:MST
DTSTART:20251102T080000
END:STANDARD
BEGIN:DAYLIGHT
TZOFFSETFROM:-0700
TZOFFSETTO:-0600
TZNAME:MDT
DTSTART:20260308T090000
END:DAYLIGHT
BEGIN:STANDARD
TZOFFSETFROM:-0600
TZOFFSETTO:-0700
TZNAME:MST
DTSTART:20261101T080000
END:STANDARD
END:VTIMEZONE
BEGIN:VEVENT
DTSTART;TZID=America/Denver:20251028T120000
DTEND;TZID=America/Denver:20251028T130000
DTSTAMP:20260424T010403
CREATED:20240608T152048Z
LAST-MODIFIED:20250205T153915Z
UID:10002000-1761652800-1761656400@pikespkblues.org
SUMMARY:Jazz 93.5 Community Blues Hour with BJ Estares
DESCRIPTION:
URL:https://pikespkblues.org/event/jazz-93-5-community-blues-hour-with-bj-estares/2025-10-28/
LOCATION:CO
END:VEVENT
BEGIN:VEVENT
DTSTART;TZID=America/Denver:20251028T190000
DTEND;TZID=America/Denver:20251028T230000
DTSTAMP:20260424T010403
CREATED:20251025T215519Z
LAST-MODIFIED:20251025T221431Z
UID:10005583-1761678000-1761692400@pikespkblues.org
SUMMARY:Randall Dubis Band
DESCRIPTION:Randall Dubis Band @ Morrison Holiday Bar\, Morrison on Tuesday\, October 28th from 7:00 pm to 11:00 pm.
URL:https://pikespkblues.org/event/randall-dubis-band-2/
LOCATION:Morrison Holiday Bar\, 403 Bear Creek Ave\, Morrison\, CO\, 80465
CATEGORIES:Concerts
END:VEVENT
END:VCALENDAR