BEGIN:VCALENDAR
VERSION:2.0
PRODID:-//Pikes Peak Blues Community - ECPv6.15.20//NONSGML v1.0//EN
CALSCALE:GREGORIAN
METHOD:PUBLISH
X-ORIGINAL-URL:https://pikespkblues.org
X-WR-CALDESC:Events for Pikes Peak Blues Community
REFRESH-INTERVAL;VALUE=DURATION:PT1H
X-Robots-Tag:noindex
X-PUBLISHED-TTL:PT1H
BEGIN:VTIMEZONE
TZID:America/Denver
BEGIN:DAYLIGHT
TZOFFSETFROM:-0700
TZOFFSETTO:-0600
TZNAME:MDT
DTSTART:20240310T090000
END:DAYLIGHT
BEGIN:STANDARD
TZOFFSETFROM:-0600
TZOFFSETTO:-0700
TZNAME:MST
DTSTART:20241103T080000
END:STANDARD
BEGIN:DAYLIGHT
TZOFFSETFROM:-0700
TZOFFSETTO:-0600
TZNAME:MDT
DTSTART:20250309T090000
END:DAYLIGHT
BEGIN:STANDARD
TZOFFSETFROM:-0600
TZOFFSETTO:-0700
TZNAME:MST
DTSTART:20251102T080000
END:STANDARD
BEGIN:DAYLIGHT
TZOFFSETFROM:-0700
TZOFFSETTO:-0600
TZNAME:MDT
DTSTART:20260308T090000
END:DAYLIGHT
BEGIN:STANDARD
TZOFFSETFROM:-0600
TZOFFSETTO:-0700
TZNAME:MST
DTSTART:20261101T080000
END:STANDARD
END:VTIMEZONE
BEGIN:VEVENT
DTSTART;TZID=America/Denver:20251026T140000
DTEND;TZID=America/Denver:20251026T200000
DTSTAMP:20260424T004705
CREATED:20250709T182054Z
LAST-MODIFIED:20251021T050444Z
UID:10004422-1761487200-1761508800@pikespkblues.org
SUMMARY:Colorado Blues Society 2025 Road to Memphis: Colorado IBC Competition - Single Day of Finals
DESCRIPTION:Colorado Blues Society 2025 Road to Memphis: Colorado IBC Competition – Single Day of Finals @ Nissi’s\, Lafayette\, CO on Sunday\, October 26th at 2:00 pm. Doors open at 1:30 pm \n2:00 – 2:30 pm   Karen Finch – Solo Act \n2:40 – 3:10 pm   Rocky Mountain Blue – Band \n3:20 – 4:00 pm   Mad Dog Blues Solo – Solo Act \n4:10 – 4:40 pm   Nate Gure – Solo Act \n4:50 – 5:20 pm   Blues Frequency – Band \n5:30 – 6:00 pm   Dennis Carter – Solo Act \n6:15 pm		Winners announced \n 
URL:https://pikespkblues.org/event/colorado-blues-society-2025-road-to-memphis-colorado-ibc-competition-final-challenge/
LOCATION:Nissi’s\, 1455 Coal Creek Dr Unit T\, Lafayette\, CO\, 80026
CATEGORIES:Concerts
END:VEVENT
END:VCALENDAR