BEGIN:VCALENDAR
VERSION:2.0
PRODID:-//Pikes Peak Blues Community - ECPv6.15.20//NONSGML v1.0//EN
CALSCALE:GREGORIAN
METHOD:PUBLISH
X-ORIGINAL-URL:https://pikespkblues.org
X-WR-CALDESC:Events for Pikes Peak Blues Community
REFRESH-INTERVAL;VALUE=DURATION:PT1H
X-Robots-Tag:noindex
X-PUBLISHED-TTL:PT1H
BEGIN:VTIMEZONE
TZID:America/Denver
BEGIN:DAYLIGHT
TZOFFSETFROM:-0700
TZOFFSETTO:-0600
TZNAME:MDT
DTSTART:20240310T090000
END:DAYLIGHT
BEGIN:STANDARD
TZOFFSETFROM:-0600
TZOFFSETTO:-0700
TZNAME:MST
DTSTART:20241103T080000
END:STANDARD
BEGIN:DAYLIGHT
TZOFFSETFROM:-0700
TZOFFSETTO:-0600
TZNAME:MDT
DTSTART:20250309T090000
END:DAYLIGHT
BEGIN:STANDARD
TZOFFSETFROM:-0600
TZOFFSETTO:-0700
TZNAME:MST
DTSTART:20251102T080000
END:STANDARD
BEGIN:DAYLIGHT
TZOFFSETFROM:-0700
TZOFFSETTO:-0600
TZNAME:MDT
DTSTART:20260308T090000
END:DAYLIGHT
BEGIN:STANDARD
TZOFFSETFROM:-0600
TZOFFSETTO:-0700
TZNAME:MST
DTSTART:20261101T080000
END:STANDARD
END:VTIMEZONE
BEGIN:VEVENT
DTSTART;TZID=America/Denver:20250914T173000
DTEND;TZID=America/Denver:20250914T203000
DTSTAMP:20260424T071803
CREATED:20250827T205453Z
LAST-MODIFIED:20250828T192043Z
UID:10004484-1757871000-1757881800@pikespkblues.org
SUMMARY:Delta Sonics Duo with Al Chesis *** PPBC Member Band ***
DESCRIPTION:Delta Sonics Duo with Al Chesis *** PPBC Member Band *** @ Johnson’s Station\, Longmont on Sunday\, September 14th at 7:30 pm
URL:https://pikespkblues.org/event/delta-sonics-with-al-chesis-ppbc-member-band-10/
LOCATION:Johnson’s Station\, 1111 Neon Forst Circle\, Longmont\, CO\, 80501\, United States
CATEGORIES:Concerts
END:VEVENT
BEGIN:VEVENT
DTSTART;TZID=America/Denver:20250914T180000
DTEND;TZID=America/Denver:20250914T210000
DTSTAMP:20260424T071803
CREATED:20250123T222019Z
LAST-MODIFIED:20250708T143454Z
UID:10004124-1757872800-1757883600@pikespkblues.org
SUMMARY:Tab Benoit 'I Hear Thunder Tour 2025' with special guests GA-20
DESCRIPTION:Tab Benoit ‘I Hear Thunder Tour 2025’ with special guests GA-20 @ Stargazers Theatre\, Colorado Springs on Sunday\, September 14th at 6:00 – Doors open at 5:00 pm pm<em
URL:https://pikespkblues.org/event/tab-benoit/
LOCATION:Stargazers Theatre\, 10 S Parkside Dr\, Colorado Springs\, CO\, 80910\, United States
CATEGORIES:Concerts
END:VEVENT
END:VCALENDAR