BEGIN:VCALENDAR
VERSION:2.0
PRODID:-//Pikes Peak Blues Community - ECPv6.15.20//NONSGML v1.0//EN
CALSCALE:GREGORIAN
METHOD:PUBLISH
X-ORIGINAL-URL:https://pikespkblues.org
X-WR-CALDESC:Events for Pikes Peak Blues Community
REFRESH-INTERVAL;VALUE=DURATION:PT1H
X-Robots-Tag:noindex
X-PUBLISHED-TTL:PT1H
BEGIN:VTIMEZONE
TZID:America/Denver
BEGIN:DAYLIGHT
TZOFFSETFROM:-0700
TZOFFSETTO:-0600
TZNAME:MDT
DTSTART:20240310T090000
END:DAYLIGHT
BEGIN:STANDARD
TZOFFSETFROM:-0600
TZOFFSETTO:-0700
TZNAME:MST
DTSTART:20241103T080000
END:STANDARD
BEGIN:DAYLIGHT
TZOFFSETFROM:-0700
TZOFFSETTO:-0600
TZNAME:MDT
DTSTART:20250309T090000
END:DAYLIGHT
BEGIN:STANDARD
TZOFFSETFROM:-0600
TZOFFSETTO:-0700
TZNAME:MST
DTSTART:20251102T080000
END:STANDARD
BEGIN:DAYLIGHT
TZOFFSETFROM:-0700
TZOFFSETTO:-0600
TZNAME:MDT
DTSTART:20260308T090000
END:DAYLIGHT
BEGIN:STANDARD
TZOFFSETFROM:-0600
TZOFFSETTO:-0700
TZNAME:MST
DTSTART:20261101T080000
END:STANDARD
END:VTIMEZONE
BEGIN:VEVENT
DTSTART;TZID=America/Denver:20250806T120000
DTEND;TZID=America/Denver:20250806T130000
DTSTAMP:20260424T133405
CREATED:20240608T152048Z
LAST-MODIFIED:20250205T153915Z
UID:10001941-1754481600-1754485200@pikespkblues.org
SUMMARY:Jazz 93.5 Community Blues Hour with BJ Estares
DESCRIPTION:
URL:https://pikespkblues.org/event/jazz-93-5-community-blues-hour-with-bj-estares/2025-08-06/
LOCATION:CO
END:VEVENT
BEGIN:VEVENT
DTSTART;TZID=America/Denver:20250806T190000
DTEND;TZID=America/Denver:20250806T220000
DTSTAMP:20260424T133405
CREATED:20250701T215903Z
LAST-MODIFIED:20250701T215904Z
UID:10004411-1754506800-1754517600@pikespkblues.org
SUMMARY:Hurricane Dave and The Storm Chasers
DESCRIPTION:Hurricane Dave and The Storm Chasers *** PPBC Member Band *** @ Nissi’s\, Lafayette\, CO on Wednesday\, August 6th at 7:00 pm
URL:https://pikespkblues.org/event/hurricane-dave-and-the-storm-chasers-8/
LOCATION:Nissi’s\, 1455 Coal Creek Dr Unit T\, Lafayette\, CO\, 80026
CATEGORIES:Concerts
END:VEVENT
BEGIN:VEVENT
DTSTART;TZID=America/Denver:20250806T193000
DTEND;TZID=America/Denver:20250806T223000
DTSTAMP:20260424T133405
CREATED:20250716T221811Z
LAST-MODIFIED:20250716T222018Z
UID:10004432-1754508600-1754519400@pikespkblues.org
SUMMARY:The Robert Cray Band
DESCRIPTION:The Robert Cray Band @ Arvada Center for the Arts and Humanities\, Arvada on Wednesday\, August 6th at 7:30 pm
URL:https://pikespkblues.org/event/the-robert-cray-band/
LOCATION:Arvada Center for the Arts and Humanities\, 6901 Wadsworth Blvd\, Arvada\, CO\, 80003\, United States
CATEGORIES:Concerts
END:VEVENT
END:VCALENDAR