BEGIN:VCALENDAR
VERSION:2.0
PRODID:-//Pikes Peak Blues Community - ECPv6.15.20//NONSGML v1.0//EN
CALSCALE:GREGORIAN
METHOD:PUBLISH
X-ORIGINAL-URL:https://pikespkblues.org
X-WR-CALDESC:Events for Pikes Peak Blues Community
REFRESH-INTERVAL;VALUE=DURATION:PT1H
X-Robots-Tag:noindex
X-PUBLISHED-TTL:PT1H
BEGIN:VTIMEZONE
TZID:America/Denver
BEGIN:DAYLIGHT
TZOFFSETFROM:-0700
TZOFFSETTO:-0600
TZNAME:MDT
DTSTART:20240310T090000
END:DAYLIGHT
BEGIN:STANDARD
TZOFFSETFROM:-0600
TZOFFSETTO:-0700
TZNAME:MST
DTSTART:20241103T080000
END:STANDARD
BEGIN:DAYLIGHT
TZOFFSETFROM:-0700
TZOFFSETTO:-0600
TZNAME:MDT
DTSTART:20250309T090000
END:DAYLIGHT
BEGIN:STANDARD
TZOFFSETFROM:-0600
TZOFFSETTO:-0700
TZNAME:MST
DTSTART:20251102T080000
END:STANDARD
BEGIN:DAYLIGHT
TZOFFSETFROM:-0700
TZOFFSETTO:-0600
TZNAME:MDT
DTSTART:20260308T090000
END:DAYLIGHT
BEGIN:STANDARD
TZOFFSETFROM:-0600
TZOFFSETTO:-0700
TZNAME:MST
DTSTART:20261101T080000
END:STANDARD
END:VTIMEZONE
BEGIN:VEVENT
DTSTART;TZID=America/Denver:20250731T120000
DTEND;TZID=America/Denver:20250731T130000
DTSTAMP:20260424T102433
CREATED:20240608T152048Z
LAST-MODIFIED:20250205T153915Z
UID:10001937-1753963200-1753966800@pikespkblues.org
SUMMARY:Jazz 93.5 Community Blues Hour with BJ Estares
DESCRIPTION:
URL:https://pikespkblues.org/event/jazz-93-5-community-blues-hour-with-bj-estares/2025-07-31/
LOCATION:CO
END:VEVENT
BEGIN:VEVENT
DTSTART;TZID=America/Denver:20250731T180000
DTEND;TZID=America/Denver:20250731T210000
DTSTAMP:20260424T102433
CREATED:20250701T204412Z
LAST-MODIFIED:20250701T204412Z
UID:10004409-1753984800-1753995600@pikespkblues.org
SUMMARY:The Delta Sonics Duo
DESCRIPTION:The Delta Sonics Duo *** PPBC Member Band *** @ Halo Rooftop Bar at Belleville Station\, DTC\, Denver on Thursday\, July 31st at 6:00 pm
URL:https://pikespkblues.org/event/the-delta-sonics-duo-2/
LOCATION:Halo Rooftop Bar Denver DTC – Belleview Station\, 6885 E Chenango Ave\, Denver\, CO\, 80237\, United States
CATEGORIES:Concerts
END:VEVENT
BEGIN:VEVENT
DTSTART;TZID=America/Denver:20250731T180000
DTEND;TZID=America/Denver:20250731T210000
DTSTAMP:20260424T102433
CREATED:20250709T180834Z
LAST-MODIFIED:20250709T180834Z
UID:10004419-1753984800-1753995600@pikespkblues.org
SUMMARY:Robert Randolph with Erica Brown
DESCRIPTION:Robert Randolph with Erica Brown @ Levitt Pavilion\, Denver on Thursday\, July 31st at 6:00 pm. Free admission but you must RSVP (https://www.levittdenver.org/#/events).
URL:https://pikespkblues.org/event/robert-randolph-with-erica-brown/
LOCATION:Levitt Pavillion
CATEGORIES:Concerts
END:VEVENT
END:VCALENDAR