BEGIN:VCALENDAR
VERSION:2.0
PRODID:-//Pikes Peak Blues Community - ECPv6.15.20//NONSGML v1.0//EN
CALSCALE:GREGORIAN
METHOD:PUBLISH
X-ORIGINAL-URL:https://pikespkblues.org
X-WR-CALDESC:Events for Pikes Peak Blues Community
REFRESH-INTERVAL;VALUE=DURATION:PT1H
X-Robots-Tag:noindex
X-PUBLISHED-TTL:PT1H
BEGIN:VTIMEZONE
TZID:America/Denver
BEGIN:DAYLIGHT
TZOFFSETFROM:-0700
TZOFFSETTO:-0600
TZNAME:MDT
DTSTART:20240310T090000
END:DAYLIGHT
BEGIN:STANDARD
TZOFFSETFROM:-0600
TZOFFSETTO:-0700
TZNAME:MST
DTSTART:20241103T080000
END:STANDARD
BEGIN:DAYLIGHT
TZOFFSETFROM:-0700
TZOFFSETTO:-0600
TZNAME:MDT
DTSTART:20250309T090000
END:DAYLIGHT
BEGIN:STANDARD
TZOFFSETFROM:-0600
TZOFFSETTO:-0700
TZNAME:MST
DTSTART:20251102T080000
END:STANDARD
BEGIN:DAYLIGHT
TZOFFSETFROM:-0700
TZOFFSETTO:-0600
TZNAME:MDT
DTSTART:20260308T090000
END:DAYLIGHT
BEGIN:STANDARD
TZOFFSETFROM:-0600
TZOFFSETTO:-0700
TZNAME:MST
DTSTART:20261101T080000
END:STANDARD
END:VTIMEZONE
BEGIN:VEVENT
DTSTART;TZID=America/Denver:20250721T120000
DTEND;TZID=America/Denver:20250721T130000
DTSTAMP:20260424T151330
CREATED:20240608T152048Z
LAST-MODIFIED:20250205T153915Z
UID:10001929-1753099200-1753102800@pikespkblues.org
SUMMARY:Jazz 93.5 Community Blues Hour with BJ Estares
DESCRIPTION:
URL:https://pikespkblues.org/event/jazz-93-5-community-blues-hour-with-bj-estares/2025-07-21/
LOCATION:CO
END:VEVENT
BEGIN:VEVENT
DTSTART;TZID=America/Denver:20250721T173000
DTEND;TZID=America/Denver:20250721T193000
DTSTAMP:20260424T151330
CREATED:20250707T210238Z
LAST-MODIFIED:20250707T210238Z
UID:10004415-1753119000-1753126200@pikespkblues.org
SUMMARY:Tommy Saxman and Rob Landreth
DESCRIPTION:Tommy Saxman and Rob Landreth @ PizzAmoré\, 236 E Cheyenne Mountain Blvd on Monday\, July 21st at 5:30 pm
URL:https://pikespkblues.org/event/tommy-saxman-and-rob-landreth/
LOCATION:PizzAmoré\, 236 E Cheyenne Mountain Blvd\, Colorado Springs\, 80906\, United States
CATEGORIES:Concerts
END:VEVENT
END:VCALENDAR