BEGIN:VCALENDAR
VERSION:2.0
PRODID:-//Pikes Peak Blues Community - ECPv6.15.20//NONSGML v1.0//EN
CALSCALE:GREGORIAN
METHOD:PUBLISH
X-ORIGINAL-URL:https://pikespkblues.org
X-WR-CALDESC:Events for Pikes Peak Blues Community
REFRESH-INTERVAL;VALUE=DURATION:PT1H
X-Robots-Tag:noindex
X-PUBLISHED-TTL:PT1H
BEGIN:VTIMEZONE
TZID:America/Denver
BEGIN:DAYLIGHT
TZOFFSETFROM:-0700
TZOFFSETTO:-0600
TZNAME:MDT
DTSTART:20240310T090000
END:DAYLIGHT
BEGIN:STANDARD
TZOFFSETFROM:-0600
TZOFFSETTO:-0700
TZNAME:MST
DTSTART:20241103T080000
END:STANDARD
BEGIN:DAYLIGHT
TZOFFSETFROM:-0700
TZOFFSETTO:-0600
TZNAME:MDT
DTSTART:20250309T090000
END:DAYLIGHT
BEGIN:STANDARD
TZOFFSETFROM:-0600
TZOFFSETTO:-0700
TZNAME:MST
DTSTART:20251102T080000
END:STANDARD
BEGIN:DAYLIGHT
TZOFFSETFROM:-0700
TZOFFSETTO:-0600
TZNAME:MDT
DTSTART:20260308T090000
END:DAYLIGHT
BEGIN:STANDARD
TZOFFSETFROM:-0600
TZOFFSETTO:-0700
TZNAME:MST
DTSTART:20261101T080000
END:STANDARD
END:VTIMEZONE
BEGIN:VEVENT
DTSTART;TZID=America/Denver:20250718T120000
DTEND;TZID=America/Denver:20250718T130000
DTSTAMP:20260424T151318
CREATED:20240608T152048Z
LAST-MODIFIED:20250205T153915Z
UID:10001928-1752840000-1752843600@pikespkblues.org
SUMMARY:Jazz 93.5 Community Blues Hour with BJ Estares
DESCRIPTION:
URL:https://pikespkblues.org/event/jazz-93-5-community-blues-hour-with-bj-estares/2025-07-18/
LOCATION:CO
END:VEVENT
BEGIN:VEVENT
DTSTART;TZID=America/Denver:20250718T180000
DTEND;TZID=America/Denver:20250718T210000
DTSTAMP:20260424T151318
CREATED:20250716T211931Z
LAST-MODIFIED:20250716T211931Z
UID:10004429-1752861600-1752872400@pikespkblues.org
SUMMARY:Deborah Stafford and The Night Stalkers
DESCRIPTION:Deborah Stafford and The Night Stalkers @ Bootstrap Brewing\, Longmont on Friday\, July 18th at 6:00 pm
URL:https://pikespkblues.org/event/deborah-stafford-and-the-night-stalkers-3/
LOCATION:Bootstrap Brewing\, 142 Pratt St\, Longmont\, CO\, 80501\, United States
CATEGORIES:Concerts
END:VEVENT
BEGIN:VEVENT
DTSTART;TZID=America/Denver:20250718T190000
DTEND;TZID=America/Denver:20250718T220000
DTSTAMP:20260424T151318
CREATED:20250701T200013Z
LAST-MODIFIED:20250701T200013Z
UID:10004404-1752865200-1752876000@pikespkblues.org
SUMMARY:The Delta Sonics with Al Chesis
DESCRIPTION:The Delta Sonics *** PPBC Member Band *** @ Spangalang Brewery\, Denver on Friday\, July 18th at 7:00 pm
URL:https://pikespkblues.org/event/the-delta-sonics-with-al-chesis-5/
LOCATION:Spangalang Brewery\, 2736 Welton St\, Denver\, CO\, 80205\, United States
CATEGORIES:Concerts
END:VEVENT
END:VCALENDAR