BEGIN:VCALENDAR
VERSION:2.0
PRODID:-//Pikes Peak Blues Community - ECPv6.15.20//NONSGML v1.0//EN
CALSCALE:GREGORIAN
METHOD:PUBLISH
X-WR-CALNAME:Pikes Peak Blues Community
X-ORIGINAL-URL:https://pikespkblues.org
X-WR-CALDESC:Events for Pikes Peak Blues Community
REFRESH-INTERVAL;VALUE=DURATION:PT1H
X-Robots-Tag:noindex
X-PUBLISHED-TTL:PT1H
BEGIN:VTIMEZONE
TZID:America/Denver
BEGIN:DAYLIGHT
TZOFFSETFROM:-0700
TZOFFSETTO:-0600
TZNAME:MDT
DTSTART:20240310T090000
END:DAYLIGHT
BEGIN:STANDARD
TZOFFSETFROM:-0600
TZOFFSETTO:-0700
TZNAME:MST
DTSTART:20241103T080000
END:STANDARD
BEGIN:DAYLIGHT
TZOFFSETFROM:-0700
TZOFFSETTO:-0600
TZNAME:MDT
DTSTART:20250309T090000
END:DAYLIGHT
BEGIN:STANDARD
TZOFFSETFROM:-0600
TZOFFSETTO:-0700
TZNAME:MST
DTSTART:20251102T080000
END:STANDARD
BEGIN:DAYLIGHT
TZOFFSETFROM:-0700
TZOFFSETTO:-0600
TZNAME:MDT
DTSTART:20260308T090000
END:DAYLIGHT
BEGIN:STANDARD
TZOFFSETFROM:-0600
TZOFFSETTO:-0700
TZNAME:MST
DTSTART:20261101T080000
END:STANDARD
END:VTIMEZONE
BEGIN:VEVENT
DTSTART;TZID=America/Denver:20250622T200000
DTEND;TZID=America/Denver:20250622T223000
DTSTAMP:20260424T153224
CREATED:20250402T215517Z
LAST-MODIFIED:20250601T190011Z
UID:10004339-1750622400-1750631400@pikespkblues.org
SUMMARY:Nic Clark Band - Part of the Mile High Blues Event June 20-22\, 2025
DESCRIPTION:Nic Clark Band – Part of the Mile High Blues Event @ Sheraton Denver Downtown Hotel\, Denver on Sunday\, June 22nd at 9:00 pm. See https://www.milehighblues.com/ for more information on the three day event.
URL:https://pikespkblues.org/event/nic-clark-band-part-of-the-mile-high-blues-event-june-20-22-2025-2/
LOCATION:Sheraton Denver Downtown Hotel\, 1550 Court Place\, Denver\, CO\, 80301\, United States
CATEGORIES:Concerts
END:VEVENT
END:VCALENDAR