BEGIN:VCALENDAR
VERSION:2.0
PRODID:-//Pikes Peak Blues Community - ECPv6.15.20//NONSGML v1.0//EN
CALSCALE:GREGORIAN
METHOD:PUBLISH
X-ORIGINAL-URL:https://pikespkblues.org
X-WR-CALDESC:Events for Pikes Peak Blues Community
REFRESH-INTERVAL;VALUE=DURATION:PT1H
X-Robots-Tag:noindex
X-PUBLISHED-TTL:PT1H
BEGIN:VTIMEZONE
TZID:America/Denver
BEGIN:DAYLIGHT
TZOFFSETFROM:-0700
TZOFFSETTO:-0600
TZNAME:MDT
DTSTART:20240310T090000
END:DAYLIGHT
BEGIN:STANDARD
TZOFFSETFROM:-0600
TZOFFSETTO:-0700
TZNAME:MST
DTSTART:20241103T080000
END:STANDARD
BEGIN:DAYLIGHT
TZOFFSETFROM:-0700
TZOFFSETTO:-0600
TZNAME:MDT
DTSTART:20250309T090000
END:DAYLIGHT
BEGIN:STANDARD
TZOFFSETFROM:-0600
TZOFFSETTO:-0700
TZNAME:MST
DTSTART:20251102T080000
END:STANDARD
BEGIN:DAYLIGHT
TZOFFSETFROM:-0700
TZOFFSETTO:-0600
TZNAME:MDT
DTSTART:20260308T090000
END:DAYLIGHT
BEGIN:STANDARD
TZOFFSETFROM:-0600
TZOFFSETTO:-0700
TZNAME:MST
DTSTART:20261101T080000
END:STANDARD
END:VTIMEZONE
BEGIN:VEVENT
DTSTART;TZID=America/Denver:20250525T163000
DTEND;TZID=America/Denver:20250525T183000
DTSTAMP:20260424T210324
CREATED:20250514T140632Z
LAST-MODIFIED:20250517T233827Z
UID:10004371-1748190600-1748197800@pikespkblues.org
SUMMARY:Hoodoo Honey
DESCRIPTION:PPBC member band Hoodoo Honey @ TRiNiTy Brewing Co\, 1466 Garden of the Gods Rd\, Colorado Springs on Sunday\, May 25th at 4:30 pm. Admission $5.00 – a portion of the proceeds will benefit The Salvation Army’s Supportive Services Center for Veteran Families (SSVF)
URL:https://pikespkblues.org/event/hoodoo-honey-12/
LOCATION:TRiNiTy Brewing Co.\, 1466 Garden of the Gods Rd\, Colorado Springs\, CO\, 80907\, United States
CATEGORIES:Concerts
END:VEVENT
END:VCALENDAR