BEGIN:VCALENDAR
VERSION:2.0
PRODID:-//Pikes Peak Blues Community - ECPv6.15.20//NONSGML v1.0//EN
CALSCALE:GREGORIAN
METHOD:PUBLISH
X-ORIGINAL-URL:https://pikespkblues.org
X-WR-CALDESC:Events for Pikes Peak Blues Community
REFRESH-INTERVAL;VALUE=DURATION:PT1H
X-Robots-Tag:noindex
X-PUBLISHED-TTL:PT1H
BEGIN:VTIMEZONE
TZID:America/Denver
BEGIN:DAYLIGHT
TZOFFSETFROM:-0700
TZOFFSETTO:-0600
TZNAME:MDT
DTSTART:20230312T090000
END:DAYLIGHT
BEGIN:STANDARD
TZOFFSETFROM:-0600
TZOFFSETTO:-0700
TZNAME:MST
DTSTART:20231105T080000
END:STANDARD
BEGIN:DAYLIGHT
TZOFFSETFROM:-0700
TZOFFSETTO:-0600
TZNAME:MDT
DTSTART:20240310T090000
END:DAYLIGHT
BEGIN:STANDARD
TZOFFSETFROM:-0600
TZOFFSETTO:-0700
TZNAME:MST
DTSTART:20241103T080000
END:STANDARD
BEGIN:DAYLIGHT
TZOFFSETFROM:-0700
TZOFFSETTO:-0600
TZNAME:MDT
DTSTART:20250309T090000
END:DAYLIGHT
BEGIN:STANDARD
TZOFFSETFROM:-0600
TZOFFSETTO:-0700
TZNAME:MST
DTSTART:20251102T080000
END:STANDARD
END:VTIMEZONE
BEGIN:VEVENT
DTSTART;TZID=America/Denver:20241214T180000
DTEND;TZID=America/Denver:20241214T220000
DTSTAMP:20260425T170707
CREATED:20241027T164416Z
LAST-MODIFIED:20241210T230400Z
UID:10003825-1734199200-1734213600@pikespkblues.org
SUMMARY:Pikes Peak Blues Community/Dizzy Charlie’s Pop Up Jazz Joint Blues/Jazz concerts with Delta Sonics featuring Al Chesis and On The Brink
DESCRIPTION:Pikes Peak Blues Community and Dizzy Charlie’s Pop Up Jazz Joint Blues/Jazz concerts with Delta Sonics featuring Al Chesis and On The Brink @ Summa Taphouse 12/14 6:00 pm – Tickets $15.00 / $10.00 for current PPBC members
URL:https://pikespkblues.org/event/ppbc-dizzy-charlies-jazz-pop-up-joint-blues-jazz-concerts-with-delta-sonics-featuring-al-chesis-and-dalonious-funk/
LOCATION:Summa\, 817 W. Colorado Ave\, Colorado Springs\, CO\, 80905\, United States
CATEGORIES:Concerts
END:VEVENT
END:VCALENDAR